BEGIN:VCALENDAR
VERSION:2.0
PRODID:-//SAIT Academic Faculty Association - ECPv6.15.20//NONSGML v1.0//EN
CALSCALE:GREGORIAN
METHOD:PUBLISH
X-ORIGINAL-URL:https://safacalgary.com
X-WR-CALDESC:Events for SAIT Academic Faculty Association
REFRESH-INTERVAL;VALUE=DURATION:PT1H
X-Robots-Tag:noindex
X-PUBLISHED-TTL:PT1H
BEGIN:VTIMEZONE
TZID:America/Edmonton
BEGIN:DAYLIGHT
TZOFFSETFROM:-0700
TZOFFSETTO:-0600
TZNAME:MDT
DTSTART:20170312T090000
END:DAYLIGHT
BEGIN:STANDARD
TZOFFSETFROM:-0600
TZOFFSETTO:-0700
TZNAME:MST
DTSTART:20171105T080000
END:STANDARD
BEGIN:DAYLIGHT
TZOFFSETFROM:-0700
TZOFFSETTO:-0600
TZNAME:MDT
DTSTART:20180311T090000
END:DAYLIGHT
BEGIN:STANDARD
TZOFFSETFROM:-0600
TZOFFSETTO:-0700
TZNAME:MST
DTSTART:20181104T080000
END:STANDARD
BEGIN:DAYLIGHT
TZOFFSETFROM:-0700
TZOFFSETTO:-0600
TZNAME:MDT
DTSTART:20190310T090000
END:DAYLIGHT
BEGIN:STANDARD
TZOFFSETFROM:-0600
TZOFFSETTO:-0700
TZNAME:MST
DTSTART:20191103T080000
END:STANDARD
BEGIN:DAYLIGHT
TZOFFSETFROM:-0700
TZOFFSETTO:-0600
TZNAME:MDT
DTSTART:20200308T090000
END:DAYLIGHT
BEGIN:STANDARD
TZOFFSETFROM:-0600
TZOFFSETTO:-0700
TZNAME:MST
DTSTART:20201101T080000
END:STANDARD
BEGIN:DAYLIGHT
TZOFFSETFROM:-0700
TZOFFSETTO:-0600
TZNAME:MDT
DTSTART:20210314T090000
END:DAYLIGHT
BEGIN:STANDARD
TZOFFSETFROM:-0600
TZOFFSETTO:-0700
TZNAME:MST
DTSTART:20211107T080000
END:STANDARD
END:VTIMEZONE
BEGIN:VEVENT
DTSTART;TZID=America/Edmonton:20200510T180000
DTEND;TZID=America/Edmonton:20200513T090000
DTSTAMP:20260424T132219
CREATED:20200212T221100Z
LAST-MODIFIED:20200403T162948Z
UID:10000236-1589133600-1589360400@safacalgary.com
SUMMARY:Cancelled - ACIFA Conference 2020
DESCRIPTION:SAFA subsidizes up to 40 Faculty members who wish to attend this conference (you need to register for the conference through the SAFA office to qualify). \nThe 2020 conference is hosted by the Keyano Faculty Association. The theme is 20/20 Vision – Clarity in Education. Held at the scenic Jasper Park Lodge\, this conference showcases sessions presented by faculty of Alberta institutions and colleges.  This year’s Keynote speakers are Dr. Alex Clarke and Bailey Sousa from the Peter Lougheed Leadership College at the University of Alberta.  The topic will be learning from what challenges you the most. To complement the stimulating sessions\, there are lots of fun activities planned.  Check out this edition of the ACIFA Faculty Circuit for all the details. \nSunday\, May 10 (Reception in the evening with finger foods) to Wednesday\, May 13\, 2019 (breakfast is not included in the conference fee). \nNo Registration refunds will be given after April 15\, 2020.
URL:https://safacalgary.com/event/acifa-conference-2020/
CATEGORIES:ACIFA Conference
END:VEVENT
BEGIN:VEVENT
DTSTART;TZID=America/Edmonton:20190428T180000
DTEND;TZID=America/Edmonton:20190501T090000
DTSTAMP:20260424T132219
CREATED:20190213T184916Z
LAST-MODIFIED:20200212T192412Z
UID:10000219-1556474400-1556701200@safacalgary.com
SUMMARY:ACIFA Conference 2019
DESCRIPTION:SAFA subsidizes up to 40 Faculty members who wish to attend this conference (you need to register for the conference through the SAFA office to qualify).\n\nThe 2019 conference is hosted by Red Deer College.  The theme is Creativity is Contagious. Held at the beautiful Lake Louise Chateau\, this conference showcases sessions presented by faculty of Alberta institutions and colleges.\n\nSunday\, April 28 (Reception in the evening with finger foods) to Wednesday\, May 1\, 2019 (breakfast is not included in the conference fee).\n\nRegistrations ends early March 2019\n\nSAFA Subsidy Document
URL:https://safacalgary.com/event/acifa-conference-2019/
CATEGORIES:ACIFA Conference
END:VEVENT
BEGIN:VEVENT
DTSTART;TZID=America/Edmonton:20180513T190000
DTEND;TZID=America/Edmonton:20180516T090000
DTSTAMP:20260424T132219
CREATED:20180118T210018Z
LAST-MODIFIED:20180927T161524Z
UID:10000206-1526238000-1526461200@safacalgary.com
SUMMARY:ACIFA Conference 2018
DESCRIPTION:Held at the beautiful Jasper Park Lodge. \nSunday\, May 13 (Reception in the evening) to Wednesday\, May 16\, 2018. \nRegistrations ends March 15\, 2018 \nSAFA Subsidy Document \n 
URL:https://safacalgary.com/event/acifa-conference-2018/
CATEGORIES:ACIFA Conference
END:VEVENT
END:VCALENDAR