BEGIN:VCALENDAR
VERSION:2.0
PRODID:-//SAIT Academic Faculty Association - ECPv6.15.20//NONSGML v1.0//EN
CALSCALE:GREGORIAN
METHOD:PUBLISH
X-ORIGINAL-URL:https://safacalgary.com
X-WR-CALDESC:Events for SAIT Academic Faculty Association
REFRESH-INTERVAL;VALUE=DURATION:PT1H
X-Robots-Tag:noindex
X-PUBLISHED-TTL:PT1H
BEGIN:VTIMEZONE
TZID:America/Edmonton
BEGIN:DAYLIGHT
TZOFFSETFROM:-0700
TZOFFSETTO:-0600
TZNAME:MDT
DTSTART:20160313T090000
END:DAYLIGHT
BEGIN:STANDARD
TZOFFSETFROM:-0600
TZOFFSETTO:-0700
TZNAME:MST
DTSTART:20161106T080000
END:STANDARD
BEGIN:DAYLIGHT
TZOFFSETFROM:-0700
TZOFFSETTO:-0600
TZNAME:MDT
DTSTART:20170312T090000
END:DAYLIGHT
BEGIN:STANDARD
TZOFFSETFROM:-0600
TZOFFSETTO:-0700
TZNAME:MST
DTSTART:20171105T080000
END:STANDARD
BEGIN:DAYLIGHT
TZOFFSETFROM:-0700
TZOFFSETTO:-0600
TZNAME:MDT
DTSTART:20180311T090000
END:DAYLIGHT
BEGIN:STANDARD
TZOFFSETFROM:-0600
TZOFFSETTO:-0700
TZNAME:MST
DTSTART:20181104T080000
END:STANDARD
BEGIN:DAYLIGHT
TZOFFSETFROM:-0700
TZOFFSETTO:-0600
TZNAME:MDT
DTSTART:20190310T090000
END:DAYLIGHT
BEGIN:STANDARD
TZOFFSETFROM:-0600
TZOFFSETTO:-0700
TZNAME:MST
DTSTART:20191103T080000
END:STANDARD
BEGIN:DAYLIGHT
TZOFFSETFROM:-0700
TZOFFSETTO:-0600
TZNAME:MDT
DTSTART:20200308T090000
END:DAYLIGHT
BEGIN:STANDARD
TZOFFSETFROM:-0600
TZOFFSETTO:-0700
TZNAME:MST
DTSTART:20201101T080000
END:STANDARD
BEGIN:DAYLIGHT
TZOFFSETFROM:-0700
TZOFFSETTO:-0600
TZNAME:MDT
DTSTART:20210314T090000
END:DAYLIGHT
BEGIN:STANDARD
TZOFFSETFROM:-0600
TZOFFSETTO:-0700
TZNAME:MST
DTSTART:20211107T080000
END:STANDARD
END:VTIMEZONE
BEGIN:VEVENT
DTSTART;TZID=America/Edmonton:20200207T180000
DTEND;TZID=America/Edmonton:20200207T220000
DTSTAMP:20260424T120650
CREATED:20190619T155102Z
LAST-MODIFIED:20191009T204634Z
UID:10000231-1581098400-1581112800@safacalgary.com
SUMMARY:SAIT Trojans Basketball
DESCRIPTION:Tickets are available to SAFA members through the SAFA office.  You will receive tickets to get into the game and to redeem for Popcorn & Pop.  If the tickets are for you and your spouse and/or dependents over 18\, you will receive a Burger & Drink coupon for the Gateway – redeemable only on the game day.
URL:https://safacalgary.com/event/sait-trojans-basketball-3/
LOCATION:Campus Centre\, 1301 16 Ave NW\, Calgary\, Alberta\, T2M 0L4\, Canada
CATEGORIES:Social Events,Trojan Sporting Events
ATTACH;FMTTYPE=image/png:https://safacalgary.com/wp-content/uploads/2019/06/ymrgdgd19raufpy0.png
END:VEVENT
BEGIN:VEVENT
DTSTART;TZID=America/Edmonton:20200124T190000
DTEND;TZID=America/Edmonton:20200124T213000
DTSTAMP:20260424T120650
CREATED:20190619T155026Z
LAST-MODIFIED:20191009T204550Z
UID:10000230-1579892400-1579901400@safacalgary.com
SUMMARY:SAIT Trojans Men's Hockey
DESCRIPTION:Tickets are available to SAFA members through the SAFA office.  You will receive tickets to get into the game and to redeem for Popcorn & Pop.  If the tickets are for you and your spouse and/or dependents over 18\, you will receive a Burger & Drink coupon for the Gateway – redeemable only on the game day.
URL:https://safacalgary.com/event/sait-trojans-mens-hockey-2/
LOCATION:Campus Centre\, 1301 16 Ave NW\, Calgary\, Alberta\, T2M 0L4\, Canada
CATEGORIES:Social Events,Trojan Sporting Events
ATTACH;FMTTYPE=image/png:https://safacalgary.com/wp-content/uploads/2019/06/ymrgdgd19raufpy0.png
END:VEVENT
BEGIN:VEVENT
DTSTART;TZID=America/Edmonton:20191122T190000
DTEND;TZID=America/Edmonton:20191122T213000
DTSTAMP:20260424T120650
CREATED:20190619T155001Z
LAST-MODIFIED:20191009T204159Z
UID:10000229-1574449200-1574458200@safacalgary.com
SUMMARY:SAIT Trojans Women's Hockey
DESCRIPTION:Tickets are available to SAFA members through the SAFA office.  You will receive tickets to get into the game and to redeem for Popcorn & Pop.  If the tickets are for you and your spouse and/or dependents over 18\, you will receive a Burger & Drink coupon for the Gateway – redeemable only on the game day.
URL:https://safacalgary.com/event/sait-trojans-womens-hockey/
LOCATION:Campus Centre\, 1301 16 Ave NW\, Calgary\, Alberta\, T2M 0L4\, Canada
CATEGORIES:Social Events,Trojan Sporting Events
ATTACH;FMTTYPE=image/png:https://safacalgary.com/wp-content/uploads/2019/06/ymrgdgd19raufpy0.png
END:VEVENT
BEGIN:VEVENT
DTSTART;TZID=America/Edmonton:20191010T180000
DTEND;TZID=America/Edmonton:20191010T220000
DTSTAMP:20260424T120650
CREATED:20190619T154906Z
LAST-MODIFIED:20191009T204510Z
UID:10000228-1570730400-1570744800@safacalgary.com
SUMMARY:SAIT Trojans Volleyball
DESCRIPTION:SAIT Trojans Volleyball is Thursday\, October 10\, 2019 \nThe Women play at 6:00 pm and the Men play at 8:00 pm. \nTickets are available to SAFA members through the SAFA office.  You will receive tickets to get into the game and to redeem for Popcorn & Pop.  If the tickets are for you and your spouse and/or dependents over 18\, you will receive a Burger & Drink coupon for the Gateway – redeemable only on the game day.
URL:https://safacalgary.com/event/sait-trojans-volleyball-2/
LOCATION:Campus Centre\, 1301 16 Ave NW\, Calgary\, Alberta\, T2M 0L4\, Canada
CATEGORIES:Social Events,Trojan Sporting Events
ATTACH;FMTTYPE=image/png:https://safacalgary.com/wp-content/uploads/2019/06/ymrgdgd19raufpy0.png
END:VEVENT
BEGIN:VEVENT
DTSTART;TZID=America/Edmonton:20190208T190000
DTEND;TZID=America/Edmonton:20190208T210000
DTSTAMP:20260424T120650
CREATED:20180531T194711Z
LAST-MODIFIED:20190213T205105Z
UID:10000215-1549652400-1549659600@safacalgary.com
SUMMARY:SAIT Trojans Hockey
DESCRIPTION:Tickets are available to SAFA members through the SAFA office.  You will receive tickets to get into the game and to redeem for Popcorn & Pop.  If the tickets are for you and your spouse and/or dependents over 18\, you will receive a Burger & Drink coupon for the Gateway – redeemable only on the game day.
URL:https://safacalgary.com/event/sait-trojans-hockey/
LOCATION:Alberta
CATEGORIES:Social Events,Trojan Sporting Events
END:VEVENT
BEGIN:VEVENT
DTSTART;TZID=America/Edmonton:20181102T180000
DTEND;TZID=America/Edmonton:20181102T220000
DTSTAMP:20260424T120650
CREATED:20180531T194605Z
LAST-MODIFIED:20190213T205126Z
UID:10000214-1541181600-1541196000@safacalgary.com
SUMMARY:SAIT Trojans Basketball
DESCRIPTION:Friday\, November 2\, 2018 \nSAIT Trojans vs. Ambrose University \nThe Women play at 6:00 pm and the Men play at 8:00 pm. \nTickets are available to SAFA members through the SAFA office.  You will receive tickets to get into the game and to redeem for Popcorn & Pop.  If the tickets are for you and your spouse and/or dependents over 18\, you will receive a Burger & Drink coupon for the Gateway – redeemable only on the game day. \n 
URL:https://safacalgary.com/event/sait-trojans-basketball-2/
LOCATION:Campus Centre\, 1301 16 Ave NW\, Calgary\, Alberta\, T2M 0L4\, Canada
CATEGORIES:Social Events,Trojan Sporting Events
END:VEVENT
BEGIN:VEVENT
DTSTART;TZID=America/Edmonton:20181012T180000
DTEND;TZID=America/Edmonton:20181012T220000
DTSTAMP:20260424T120650
CREATED:20180531T194312Z
LAST-MODIFIED:20190213T205145Z
UID:10000213-1539367200-1539381600@safacalgary.com
SUMMARY:SAIT Trojans Volleyball
DESCRIPTION:SAIT Trojans vs. Briercrest \nFriday\, October 12\, 2018 \nThe Women play at 6:00 pm and the Men play at 8:00 pm. \nTickets are available to SAFA members through the SAFA office.  You will receive tickets to get into the game and to redeem for Popcorn & Pop.  If the tickets are for you and your spouse and/or dependents over 18\, you will receive a Burger & Drink coupon for the Gateway – redeemable only on the game day.
URL:https://safacalgary.com/event/sait-trojans-volleyball/
LOCATION:Campus Centre\, 1301 16 Ave NW\, Calgary\, Alberta\, T2M 0L4\, Canada
CATEGORIES:Social Events,Trojan Sporting Events
END:VEVENT
BEGIN:VEVENT
DTSTART;TZID=America/Edmonton:20180915T120000
DTEND;TZID=America/Edmonton:20180915T160000
DTSTAMP:20260424T120650
CREATED:20180531T193837Z
LAST-MODIFIED:20190213T205206Z
UID:10000211-1537012800-1537027200@safacalgary.com
SUMMARY:SAIT Trojans Soccer
DESCRIPTION:The Women play at Noon and the Men play at 2:00 pm.  This is a SAFA sponsored event that includes admission and a free popcorn and pop (as available from the concession stand).
URL:https://safacalgary.com/event/sait-trojans-soccer-2/
LOCATION:Outdoor Soccer Field\, 1301 - 16 Ave NW\, Calgary\, AB\, T2M 0L4\, Canada
CATEGORIES:Social Events,Trojan Sporting Events
END:VEVENT
BEGIN:VEVENT
DTSTART;TZID=America/Edmonton:20180209T190000
DTEND;TZID=America/Edmonton:20180209T190000
DTSTAMP:20260424T120650
CREATED:20180102T171010Z
LAST-MODIFIED:20190213T205237Z
UID:10000205-1518202800-1518202800@safacalgary.com
SUMMARY:SAIT Trojans Men's Hockey
DESCRIPTION:Come cheer on the SAIT Trojans Men’s Hockey team!  Chill before the games at the Gateway (for those 18 years and older) with a complimentary burger and drink and then head for the arena for 8:00 pm game time.  Complimentary popcorn and pop round out the evening. \nFriday\, February 9\, 2017 \n7:00 pm
URL:https://safacalgary.com/event/sait-trojans-mens-hockey/
LOCATION:Campus Centre\, 1301 16 Ave NW\, Calgary\, Alberta\, T2M 0L4\, Canada
CATEGORIES:Social Events,Trojan Sporting Events
END:VEVENT
BEGIN:VEVENT
DTSTART;TZID=America/Edmonton:20180126T180000
DTEND;TZID=America/Edmonton:20180126T180000
DTSTAMP:20260424T120650
CREATED:20171102T160757Z
LAST-MODIFIED:20190213T205300Z
UID:10000203-1516989600-1516989600@safacalgary.com
SUMMARY:SAIT Trojans Volleyball
DESCRIPTION:Come cheer on the SAIT Trojans Volleyball teams!  Chill before the games at the Gateway (for those 18 years and older) with a complimentary burger and drink and then head for the court to watch the Women play at 6:00 and the Men at 8:00 pm.  Complimentary popcorn and pop round out the evening. \nFriday\, January 26\, 2017 \n6:00 pm Women’s \n8:00 pm Men’s
URL:https://safacalgary.com/event/sait-trojan/
LOCATION:Campus Centre\, 1301 16 Ave NW\, Calgary\, Alberta\, T2M 0L4\, Canada
CATEGORIES:Social Events,Trojan Sporting Events
END:VEVENT
BEGIN:VEVENT
DTSTART;TZID=America/Edmonton:20171103T180000
DTEND;TZID=America/Edmonton:20171103T180000
DTSTAMP:20260424T120650
CREATED:20170929T160522Z
LAST-MODIFIED:20190213T205327Z
UID:10000201-1509732000-1509732000@safacalgary.com
SUMMARY:SAIT Trojans Basketball
DESCRIPTION:Come cheer on the SAIT Trojans Basketball teams!  Chill before the games at the Gateway (for those 18 years and older) with a complimentary burger and drink (4-5:30 pm) and then head for the court to watch the Women play at 6:00 and the Men at 8:00 pm.  Complimentary popcorn and pop round out the evening. \nFriday\, November 3\, 2017 \n6:00 pm Women’s \n8:00 pm Men’s
URL:https://safacalgary.com/event/sait-trojans-basketball/
LOCATION:Campus Centre\, 1301 16 Ave NW\, Calgary\, Alberta\, T2M 0L4\, Canada
CATEGORIES:Social Events,Trojan Sporting Events
END:VEVENT
BEGIN:VEVENT
DTSTART;TZID=America/Edmonton:20170930T120000
DTEND;TZID=America/Edmonton:20170930T170000
DTSTAMP:20260424T120650
CREATED:20170601T160451Z
LAST-MODIFIED:20190213T205351Z
UID:10000200-1506772800-1506790800@safacalgary.com
SUMMARY:SAIT Trojans Soccer
DESCRIPTION:Come cheer on the SAIT Trojans Soccer teams.  This is a family friendly event.  Relax in the autumn sunshine and enjoy some complimentary popcorn and pop while both the women’s and the men’s teams battle it out in a mid-season game with the Red Deer College Queens & Kings. \nSaturday\, September 30\, 2017 \n12:00 pm Women’s \n2:00 pm Men’s
URL:https://safacalgary.com/event/sait-trojans-soccer/
LOCATION:Outdoor Soccer Field\, 1301 - 16 Ave NW\, Calgary\, AB\, T2M 0L4\, Canada
CATEGORIES:Social Events,Trojan Sporting Events
END:VEVENT
END:VCALENDAR