BEGIN:VCALENDAR
VERSION:2.0
PRODID:-//SAIT Academic Faculty Association - ECPv6.15.20//NONSGML v1.0//EN
CALSCALE:GREGORIAN
METHOD:PUBLISH
X-WR-CALNAME:SAIT Academic Faculty Association
X-ORIGINAL-URL:https://safacalgary.com
X-WR-CALDESC:Events for SAIT Academic Faculty Association
REFRESH-INTERVAL;VALUE=DURATION:PT1H
X-Robots-Tag:noindex
X-PUBLISHED-TTL:PT1H
BEGIN:VTIMEZONE
TZID:America/Edmonton
BEGIN:DAYLIGHT
TZOFFSETFROM:-0700
TZOFFSETTO:-0600
TZNAME:MDT
DTSTART:20230312T090000
END:DAYLIGHT
BEGIN:STANDARD
TZOFFSETFROM:-0600
TZOFFSETTO:-0700
TZNAME:MST
DTSTART:20231105T080000
END:STANDARD
BEGIN:DAYLIGHT
TZOFFSETFROM:-0700
TZOFFSETTO:-0600
TZNAME:MDT
DTSTART:20240310T090000
END:DAYLIGHT
BEGIN:STANDARD
TZOFFSETFROM:-0600
TZOFFSETTO:-0700
TZNAME:MST
DTSTART:20241103T080000
END:STANDARD
BEGIN:DAYLIGHT
TZOFFSETFROM:-0700
TZOFFSETTO:-0600
TZNAME:MDT
DTSTART:20250309T090000
END:DAYLIGHT
BEGIN:STANDARD
TZOFFSETFROM:-0600
TZOFFSETTO:-0700
TZNAME:MST
DTSTART:20251102T080000
END:STANDARD
BEGIN:DAYLIGHT
TZOFFSETFROM:-0700
TZOFFSETTO:-0600
TZNAME:MDT
DTSTART:20260308T090000
END:DAYLIGHT
BEGIN:STANDARD
TZOFFSETFROM:-0600
TZOFFSETTO:-0700
TZNAME:MST
DTSTART:20261101T080000
END:STANDARD
BEGIN:DAYLIGHT
TZOFFSETFROM:-0700
TZOFFSETTO:-0600
TZNAME:MDT
DTSTART:20270314T090000
END:DAYLIGHT
BEGIN:STANDARD
TZOFFSETFROM:-0600
TZOFFSETTO:-0700
TZNAME:MST
DTSTART:20271107T080000
END:STANDARD
END:VTIMEZONE
BEGIN:VEVENT
DTSTART;TZID=America/Edmonton:20260430T160000
DTEND;TZID=America/Edmonton:20260430T160000
DTSTAMP:20260423T131721
CREATED:20260401T004112Z
LAST-MODIFIED:20260401T004835Z
UID:10000788-1777564800-1777564800@safacalgary.com
SUMMARY:SAFA AGM Call for Motions Deadline - 2026
DESCRIPTION:
URL:https://safacalgary.com/event/safa-agm-call-for-motions-2026/
END:VEVENT
BEGIN:VEVENT
DTSTART;TZID=America/Edmonton:20260430T000000
DTEND;TZID=America/Edmonton:20260430T235959
DTSTAMP:20260423T131721
CREATED:20260415T234416Z
LAST-MODIFIED:20260415T234417Z
UID:10000789-1777507200-1777593599@safacalgary.com
SUMMARY:Nomination Deadline for Board of Governors
DESCRIPTION:Are you looking to be more involved in SAFA? Do you want to learn more about how SAIT is governed?  Interested in making connections and sharing your experiences as an Academic Staff Member?  Apply to become the SAFA Representative to the SAIT Board of Governors! \n\n\n\nSAIT’s Board of Governors is the permanent governing body of SAIT that makes and administers policy.  The Board sets the mission for the institution\, is accountable and responsible for the educational and financial governance of SAIT and is responsive to the needs of the communities that SAIT serves. This 2-year position is mandated by the Government of Alberta. More information about the Board’s activities can be found on the SAIT website. \n\n\n\nTo apply for this position\, please complete the nomination form and email it to safa@sait.ca by April 30\, 2026.  Applicants may be contacted for an interview before a final selection is made. The final selection will occur no later than May 20\, 2026.
URL:https://safacalgary.com/event/nomination-deadline-for-board-of-governors/
END:VEVENT
BEGIN:VEVENT
DTSTART;TZID=America/Edmonton:20260428T160000
DTEND;TZID=America/Edmonton:20260428T193000
DTSTAMP:20260423T131721
CREATED:20260421T231838Z
LAST-MODIFIED:20260421T231840Z
UID:10000790-1777392000-1777404600@safacalgary.com
SUMMARY:SAFA Loco Lou's event
DESCRIPTION:We know this is a difficult and uncertain time for many of our members. This gathering is a chance to connect with your colleagues\, check in\, and spend some time together. Whether you feel like talking things through or just getting out for a bit\, you’re welcome to drop by. \n\n\n\nEnjoy: \n\n\n\n🍹 Two complimentary drink tickets🍴 Appetizers served throughout the evening🚕 Taxi chit vouchers available to help you get home safely \n\n\n\nThis is a SAFA members-only event and no registration is required – just drop in when you can\, stay as long as you like\, connect\, check in\, and relax for an evening with your colleagues.
URL:https://safacalgary.com/event/safa-loco-lous-event-2/
END:VEVENT
BEGIN:VEVENT
DTSTART;TZID=America/Edmonton:20260423T100000
DTEND;TZID=America/Edmonton:20260423T160000
DTSTAMP:20260423T131721
CREATED:20251213T195520Z
LAST-MODIFIED:20251213T195522Z
UID:10000781-1776938400-1776960000@safacalgary.com
SUMMARY:SAFA Election-1st Advanced Poll at the SAFA Office
DESCRIPTION:
URL:https://safacalgary.com/event/safa-election-1st-advanced-poll-at-the-safa-office/
END:VEVENT
BEGIN:VEVENT
DTSTART;TZID=America/Edmonton:20260326T000000
DTEND;TZID=America/Edmonton:20260326T235959
DTSTAMP:20260423T131721
CREATED:20260310T235600Z
LAST-MODIFIED:20260310T233406Z
UID:10000786-1774483200-1774569599@safacalgary.com
SUMMARY:Deadline for nominations for SAFA Elections
DESCRIPTION:
URL:https://safacalgary.com/event/deadline-for-nominations/
END:VEVENT
BEGIN:VEVENT
DTSTART;TZID=America/Edmonton:20260320T000000
DTEND;TZID=America/Edmonton:20260320T235959
DTSTAMP:20260423T131721
CREATED:20260305T005719Z
LAST-MODIFIED:20260305T005722Z
UID:10000785-1773964800-1774051199@safacalgary.com
SUMMARY:Deadline to Register for ACIFA Conference
DESCRIPTION:
URL:https://safacalgary.com/event/deadline-to-register-for-acifa-conference/
END:VEVENT
BEGIN:VEVENT
DTSTART;TZID=America/Edmonton:20260307T180000
DTEND;TZID=America/Edmonton:20260307T230000
DTSTAMP:20260423T131721
CREATED:20260129T010808Z
LAST-MODIFIED:20260129T010811Z
UID:10000775-1772906400-1772924400@safacalgary.com
SUMMARY:SAFA Fun Money Casino
DESCRIPTION:Ahoy\, Mateys! Set sail for a night of fun\, fortune\, and a little friendly mischief at SAFA’s Pirate-Themed Fun Money Casino! All SAFA members are welcome to attend and bring guests (18 years of age or older).  \n\n\n\nDate: March 7\, 6pm-11pm (Casino tables will be open from 7:00 – 10:00pm) \n\n\n\nLocation: MacDonald Hall & Irene Lewis Atrium\, Stan Grad Building \n\n\n\nEntry: Enter through the Heritage Hall main doors (South side of the building facing the soccer field). All other doors will be locked. \n\n\n\nTicket Price: $10.00/ each – your treasure includes: \n\n\n\n•    2 drink tickets (additional drinks $5/each at cash bar) \n\n\n\n•    complimentary taxi chit \n\n\n\n•    food throughout the night -pizza and appies (gluten free & vegetarian options available) \n\n\n\n•    Fun Money Casino entertainment \n\n\n\nAdditional drinks will be available for purchase at $5.00/each \n\n\n\nThe deadline to order tickets is Thursday\, February 26\, 2026.   Tickets are only $10 and can be purchased by contacting Kathie Dann (kathie.dann@sait.ca). \n\n\n\nPirate Attire: \n\n\n\nDon your finest pirate garb and join the crew! Costumes are encouraged but not mandatory. Anyone dressed in pirate-themed attire will be entered into a raffle to win a prize. \n\n\n\nSo\, grab your crew\, test your luck\, and get ready to plunder\, play\, and parley the night away.
URL:https://safacalgary.com/event/safa-fun-money-casino-2/
END:VEVENT
BEGIN:VEVENT
DTSTART;TZID=America/Edmonton:20260226T000000
DTEND;TZID=America/Edmonton:20260226T235959
DTSTAMP:20260423T131721
CREATED:20260129T010919Z
LAST-MODIFIED:20260129T010920Z
UID:10000783-1772064000-1772150399@safacalgary.com
SUMMARY:Deadline for Fun Money Casino Tickets
DESCRIPTION:The deadline to order tickets is Thursday\, February 26\, 2026.   Tickets are only $10 each and can be purchased by contacting Kathie Dann (kathie.dann@sait.ca).
URL:https://safacalgary.com/event/deadline-for-fun-money-casino-tickets/
END:VEVENT
BEGIN:VEVENT
DTSTART;TZID=America/Edmonton:20260224T160000
DTEND;TZID=America/Edmonton:20260224T193000
DTSTAMP:20260423T131721
CREATED:20260206T032500Z
LAST-MODIFIED:20260205T152626Z
UID:10000784-1771948800-1771961400@safacalgary.com
SUMMARY:SAFA Loco Lou's event
DESCRIPTION:You’re invited to take a break\, unwind\, and connect with your colleagues – SAFA is hosting a casual social and we’d love to see you there! \n\n\n\nEnjoy: \n\n\n\n🍹 Two complimentary drink tickets🍴 Appetizers served throughout the evening🚕 Taxi chit vouchers available to help you get home safely \n\n\n\nDrop in when you can\, stay as long as you like\, and enjoy a fun\, relaxed evening with your colleagues.
URL:https://safacalgary.com/event/safa-loco-lous-event/
LOCATION:Loco Lou’s (1324 – 16 Avenue NW)\, 1324 16 Avenue NW\, Calgary\, AB\, T2M 0L1\, Canada
END:VEVENT
BEGIN:VEVENT
DTSTART;TZID=America/Edmonton:20260115T183000
DTEND;TZID=America/Edmonton:20260115T223000
DTSTAMP:20260423T131721
CREATED:20251210T143428Z
LAST-MODIFIED:20251210T143430Z
UID:10000776-1768501800-1768516200@safacalgary.com
SUMMARY:SAFA Event--Mini Olympics
DESCRIPTION:Please join us as we kick off the new year with an evening of friendly competition\, great food\, and plenty of fun at our Mini Olympics event hosted at Schanks South (9627 Macleod Trail South). \n\n\n\nMembers may bring one guest (18 years and older). \n\n\n\nDate:                  Thursday\, January 15\, 2026 \n\n\n\nTime:                  6:30 – 10:30pm/ supper included \n\n\n\nLocation:           Schanks South – 9627 Macleod Trail South \n\n\n\nCost:                   $10/person (member + guest) \n\n\n\nDeadline:          Final day to register – Thursday\, January 8\, 2026 \n\n\n\nWhat’s included: \n\n\n\n\nRoast beef buffet supper\n\n\n\nMini-Olympic course\n\n\n\n2 drink tickets\n\n\n\nComplimentary taxi chit to get home safely\n\n\n\n\nParticipants will be placed on teams of 4-6 players to take on a series of exciting challenges: \n\n\n\nPro-Putt Mini Golf – navigate the rocks\, geese\, and alligators as you and your team plays 6 holes of mini golf \n\n\n\n3 Ball Pool – chalk up your cue and sink 3 balls\, the lower the shots the better! \n\n\n\nArcade Basketball – shoot hoops and sink as many baskets as you can in 60 seconds. Bonus rounds after 100 points!
URL:https://safacalgary.com/event/safa-event-mini-olympics/
END:VEVENT
BEGIN:VEVENT
DTSTART;TZID=America/Edmonton:20260108T000000
DTEND;TZID=America/Edmonton:20260108T235959
DTSTAMP:20260423T131721
CREATED:20251210T143515Z
LAST-MODIFIED:20251213T175952Z
UID:10000777-1767830400-1767916799@safacalgary.com
SUMMARY:Final day to register for Mini Olympics
DESCRIPTION:Please email Kathie.dann@sait.ca or safa@sait.ca to purchase tickets.
URL:https://safacalgary.com/event/final-day-to-register-for-mini-olympics/
END:VEVENT
BEGIN:VEVENT
DTSTART;TZID=America/Edmonton:20260102T000000
DTEND;TZID=America/Edmonton:20260102T235959
DTSTAMP:20260423T131721
CREATED:20251213T191653Z
LAST-MODIFIED:20251213T192731Z
UID:10000779-1767312000-1767398399@safacalgary.com
SUMMARY:ACIFA Awards deadline (details on the ACIFA website)
DESCRIPTION:For more details on the Distinguished Instructor Award\, the Innovation in Teaching Award and the Scholarship of Teaching and Learning Award\, please visit the ACIFA website.  Apply here.
URL:https://safacalgary.com/event/acifa-awards-details-on-the-acifa-website/
END:VEVENT
BEGIN:VEVENT
DTSTART;TZID=America/Edmonton:20260101T000000
DTEND;TZID=America/Edmonton:20260101T235959
DTSTAMP:20260423T131721
CREATED:20251030T001443Z
LAST-MODIFIED:20251030T001445Z
UID:10000772-1767225600-1767311999@safacalgary.com
SUMMARY:New Year's Day
DESCRIPTION:
URL:https://safacalgary.com/event/new-years-day/
END:VEVENT
BEGIN:VEVENT
DTSTART;TZID=America/Edmonton:20251229T000000
DTEND;TZID=America/Edmonton:20251231T235959
DTSTAMP:20260423T131721
CREATED:20251030T001152Z
LAST-MODIFIED:20251030T001155Z
UID:10000769-1766966400-1767225599@safacalgary.com
SUMMARY:Christmas Leave
DESCRIPTION:Section 38 grants us the days between Boxing Day and New Year’s Day as leave.
URL:https://safacalgary.com/event/christmas-leave-2/
END:VEVENT
BEGIN:VEVENT
DTSTART;TZID=America/Edmonton:20251225T000000
DTEND;TZID=America/Edmonton:20251226T235959
DTSTAMP:20260423T131721
CREATED:20251030T001317Z
LAST-MODIFIED:20251030T001625Z
UID:10000770-1766620800-1766793599@safacalgary.com
SUMMARY:Christmas Day and Boxing Day
DESCRIPTION:
URL:https://safacalgary.com/event/christmas-day-2/
END:VEVENT
BEGIN:VEVENT
DTSTART;TZID=America/Edmonton:20251224T000000
DTEND;TZID=America/Edmonton:20251224T235959
DTSTAMP:20260423T131721
CREATED:20251030T000820Z
LAST-MODIFIED:20251203T151728Z
UID:10000768-1766534400-1766620799@safacalgary.com
SUMMARY:Christmas SAFA Floater Day
DESCRIPTION:Section 33 states that SAFA members have paid leave for Christmas Day\, Boxing Day\, a “Christmas Floater”\, and New Year’s Day.
URL:https://safacalgary.com/event/christmas-float-day/
END:VEVENT
BEGIN:VEVENT
DTSTART;TZID=America/Edmonton:20251210T110000
DTEND;TZID=America/Edmonton:20251210T123000
DTSTAMP:20260423T131721
CREATED:20251111T221920Z
LAST-MODIFIED:20251111T221921Z
UID:10000774-1765364400-1765369800@safacalgary.com
SUMMARY:Retirement Benefits Planning Webinar by ARTA-registration required
DESCRIPTION:December 10th @ 11am \n\n\n\nRegistration Link: https://us06web.zoom.us/webinar/register/WN_41g3gQPfRySMlrtSdGfsAQ \n\n\n\nCheck out the retirement benefits available to SAFA members through the Alberta Retired Teachers’ Association (ARTA).
URL:https://safacalgary.com/event/retirement-benefits-planning-webinar-by-arta-registration-required-2/
END:VEVENT
BEGIN:VEVENT
DTSTART;TZID=America/Edmonton:20251203T160000
DTEND;TZID=America/Edmonton:20251203T193000
DTSTAMP:20260423T131721
CREATED:20251029T235612Z
LAST-MODIFIED:20251203T151746Z
UID:10000767-1764777600-1764790200@safacalgary.com
SUMMARY:The SAFA Annual Members' Christmas Party
DESCRIPTION:
URL:https://safacalgary.com/event/the-safa-annual-members-christmas-party/
END:VEVENT
BEGIN:VEVENT
DTSTART;TZID=America/Edmonton:20251113T140000
DTEND;TZID=America/Edmonton:20251113T153000
DTSTAMP:20260423T131721
CREATED:20251031T004131Z
LAST-MODIFIED:20251031T004233Z
UID:10000773-1763042400-1763047800@safacalgary.com
SUMMARY:Retirement Benefits Planning Webinar by ARTA-registration required
DESCRIPTION:Register for the webinar using this link. \n\n\n\nCheck out the retirement benefits available to SAFA members through the Alberta Retired Teachers’ Association (ARTA).
URL:https://safacalgary.com/event/retirement-benefits-planning-webinar-by-arta-registration-required/
END:VEVENT
BEGIN:VEVENT
DTSTART;TZID=America/Edmonton:20251103T000000
DTEND;TZID=America/Edmonton:20251103T235959
DTSTAMP:20260423T131721
CREATED:20251008T001642Z
LAST-MODIFIED:20251008T001644Z
UID:10000766-1762128000-1762214399@safacalgary.com
SUMMARY:Deadline for SAFA Dependent Scholarship
DESCRIPTION:Please have all applications sent to SAFA via email at either : kathie.dann@sait.ca or safa@sait.ca. Please find the criteria and application linked for your convenience.
URL:https://safacalgary.com/event/deadline-for-safa-dependent-scholarship-3/
CATEGORIES:Business
END:VEVENT
BEGIN:VEVENT
DTSTART;TZID=America/Edmonton:20250920T110000
DTEND;TZID=America/Edmonton:20250920T170000
DTSTAMP:20260423T131721
CREATED:20250619T002700Z
LAST-MODIFIED:20250618T223106Z
UID:10000763-1758366000-1758387600@safacalgary.com
SUMMARY:Family Fun at Cobbs
DESCRIPTION:All SAFA members and their families are invited to a day out at Cobbs Adventure Park!  It’s a great time for kids and adults\, with complimentary passes into the corn maze\, axe throwing\, free rides\, plenty of games\, and lunch courtesy of SAFA. \n\n\n\nTime: 11am – 5pm\, with lunch served from 12pm – 2pm \n\n\n\nLocation: Cobbs Adventure Park\, 1500 84th Street NE\, Calgary \n\n\n\n If you would like to attend\, please email kathie.dann@sait.ca for information and tickets.
URL:https://safacalgary.com/event/family-fun-at-cobbs/
END:VEVENT
BEGIN:VEVENT
DTSTART;TZID=America/Edmonton:20250918T160000
DTEND;TZID=America/Edmonton:20250918T190000
DTSTAMP:20260423T131721
CREATED:20250911T010625Z
LAST-MODIFIED:20250911T010627Z
UID:10000765-1758211200-1758222000@safacalgary.com
SUMMARY:Welcome Back Event
DESCRIPTION:Macdonald Hall
URL:https://safacalgary.com/event/welcome-back-event/
END:VEVENT
BEGIN:VEVENT
DTSTART;TZID=America/Edmonton:20250902T000000
DTEND;TZID=America/Edmonton:20250902T235959
DTSTAMP:20260423T131721
CREATED:20250619T003900Z
LAST-MODIFIED:20250618T224024Z
UID:10000764-1756771200-1756857599@safacalgary.com
SUMMARY:Regular SAFA in-person office hours resume
DESCRIPTION:
URL:https://safacalgary.com/event/regular-safa-in-person-office-hours-resume/
END:VEVENT
BEGIN:VEVENT
DTSTART;TZID=America/Edmonton:20250522T160000
DTEND;TZID=America/Edmonton:20250522T180000
DTSTAMP:20260423T131721
CREATED:20250402T133638Z
LAST-MODIFIED:20250506T231629Z
UID:10000761-1747929600-1747936800@safacalgary.com
SUMMARY:SAFA AGM (Annual General Meeting) - Hybrid format
DESCRIPTION:You can attend in person at MacDonald Hall/ Heritage Hall (limited seats\, please contact Kathie Dann to reserve a spot to attend in person – safa@sait.ca \n\n\n\nAll SAFA members are encouraged to attend. \n\n\n\nPlease note\, if quorum is not met at 4:00pm\, the meeting will reconvene at 4:15pm. \n\n\n\nIf you have questions regarding the attached documents\, please contact the SAFA office for clarification prior to the SAFA AGM via email at: safa@sait.ca.
URL:https://safacalgary.com/event/safa-agm-annual-general-meeting/
END:VEVENT
BEGIN:VEVENT
DTSTART;TZID=America/Edmonton:20250521T160000
DTEND;TZID=America/Edmonton:20250521T200000
DTSTAMP:20260423T131721
CREATED:20250402T133544Z
LAST-MODIFIED:20250402T133545Z
UID:10000760-1747843200-1747857600@safacalgary.com
SUMMARY:SAFA Annual BBQ
DESCRIPTION:
URL:https://safacalgary.com/event/safa-annual-bbq/
END:VEVENT
BEGIN:VEVENT
DTSTART;TZID=America/Edmonton:20250511T000000
DTEND;TZID=America/Edmonton:20250513T235959
DTSTAMP:20260423T131721
CREATED:20250415T234319Z
LAST-MODIFIED:20250415T234517Z
UID:10000762-1746921600-1747180799@safacalgary.com
SUMMARY:ACIFA Conference
DESCRIPTION:For registration assistance contact ACIFA at admin@acifa.ca. \n\n\n\nFor more information\, please visit our page.
URL:https://safacalgary.com/event/acifa-conference/
END:VEVENT
BEGIN:VEVENT
DTSTART;TZID=America/Edmonton:20250412T180000
DTEND;TZID=America/Edmonton:20250412T230000
DTSTAMP:20260423T131721
CREATED:20250212T001323Z
LAST-MODIFIED:20250319T235508Z
UID:10000757-1744480800-1744498800@safacalgary.com
SUMMARY:SAFA Fun Money Casino Night
DESCRIPTION:Location: Irene Lewis Atrium\, Stan Grad Centre \n\n\n\nAll SAFA members are welcome to attend and bring guests (18 years of age or older).  The theme will be 80s Night\, and attendees who dress up can enter a raffle to win a prize. \n\n\n\nDate: April 12\, 6pm-11pm \n\n\n\nLocation: Enter at Macdonald Hall\, Heritage Hall\, Main SAIT Campus \n\n\n\nEach attendee receives: \n\n\n\n•    2 drink tickets (additional drinks $5/each at cash bar) \n\n\n\n•    complimentary taxi chit \n\n\n\n•    food throughout the night -pizza and appies (gluten free & vegetarian options available) \n\n\n\n•    Fun Money Casino entertainment \n\n\n\nThe deadline to order tickets is April 4th\, 2025.   Tickets are only $10 and can be purchased by contacting Kathie Dann (kathie.dann@sait.ca).
URL:https://safacalgary.com/event/safa-fun-money-casino-night/
END:VEVENT
BEGIN:VEVENT
DTSTART;TZID=America/Edmonton:20250325T163000
DTEND;TZID=America/Edmonton:20250325T210000
DTSTAMP:20260423T131721
CREATED:20250227T005831Z
LAST-MODIFIED:20250227T005853Z
UID:10000758-1742920200-1742936400@safacalgary.com
SUMMARY:SAFA Loco Lou’s Social Event
DESCRIPTION:SAFA would like to invite you to come and enjoy a drink and appetizers with your colleagues to bring in the New Year! \n\n\n\nWe are hosting the event across the street at Loco Lou’s (1324 16 Ave NW) on Tuesday\, January 28\, 2025 from 4:00 -7:30pm. \n\n\n\nYou will receive 2 complimentary drink tickets/ appetizers throughout the event and taxi chit vouchers are available to get home safely. \n\n\n\nWe hope to see you there!
URL:https://safacalgary.com/event/loco-lous-social-event/
END:VEVENT
BEGIN:VEVENT
DTSTART;TZID=America/Edmonton:20250128T160000
DTEND;TZID=America/Edmonton:20250128T193000
DTSTAMP:20260423T131721
CREATED:20250108T001130Z
LAST-MODIFIED:20250108T001130Z
UID:10000756-1738080000-1738092600@safacalgary.com
SUMMARY:SAFA Social
DESCRIPTION:SAFA would like to invite you to come and enjoy a drink and appetizers with your colleagues to bring in the New Year! \n\n\n\nWe are hosting the event across the street at Loco Lou’s (1324 16 Ave NW) on Tuesday\, January 28\, 2025 from 4:00 -7:30pm. \n\n\n\nYou will receive 2 complimentary drink tickets/ appetizers throughout the event and taxi chit vouchers are available to get home safely. \n\n\n\nWe hope to see you there!
URL:https://safacalgary.com/event/safa-social-2/
END:VEVENT
BEGIN:VEVENT
DTSTART;TZID=America/Edmonton:20241226T000000
DTEND;TZID=America/Edmonton:20241231T235959
DTSTAMP:20260423T131721
CREATED:20241022T235643Z
LAST-MODIFIED:20241023T000136Z
UID:10000752-1735171200-1735689599@safacalgary.com
SUMMARY:Christmas leave
DESCRIPTION:SECTION 38 \n\n\n\nCHRISTMAS LEAVE \n\n\n\n38.01 Academic staff members shall be granted the work days between Boxing Day andNew Year’s Day as Christmas Leave\, or\, if required to work on those days\, shall bepaid\, in addition to the member’s regular pay\, pay at straight time rates for allhours so worked. \n\n\n\n38.02 The Christmas float holiday\, pursuant to Section 38 of this collective agreementshall be observed:(a) on December 22nd when Christmas Day falls on a Monday;(b) on December 23rd when Christmas Day falls on a Sunday;(c) on December 24th when Christmas Day falls on any other day of the week.38.03 Annual vacation leave entitlement shall not be reduced by the taking of ChristmasLeave.
URL:https://safacalgary.com/event/christmas-leave/
END:VEVENT
END:VCALENDAR