BEGIN:VCALENDAR
VERSION:2.0
PRODID:-//SAIT Academic Faculty Association - ECPv6.15.20//NONSGML v1.0//EN
CALSCALE:GREGORIAN
METHOD:PUBLISH
X-WR-CALNAME:SAIT Academic Faculty Association
X-ORIGINAL-URL:https://safacalgary.com
X-WR-CALDESC:Events for SAIT Academic Faculty Association
REFRESH-INTERVAL;VALUE=DURATION:PT1H
X-Robots-Tag:noindex
X-PUBLISHED-TTL:PT1H
BEGIN:VTIMEZONE
TZID:America/Edmonton
BEGIN:DAYLIGHT
TZOFFSETFROM:-0700
TZOFFSETTO:-0600
TZNAME:MDT
DTSTART:20190310T090000
END:DAYLIGHT
BEGIN:STANDARD
TZOFFSETFROM:-0600
TZOFFSETTO:-0700
TZNAME:MST
DTSTART:20191103T080000
END:STANDARD
BEGIN:DAYLIGHT
TZOFFSETFROM:-0700
TZOFFSETTO:-0600
TZNAME:MDT
DTSTART:20200308T090000
END:DAYLIGHT
BEGIN:STANDARD
TZOFFSETFROM:-0600
TZOFFSETTO:-0700
TZNAME:MST
DTSTART:20201101T080000
END:STANDARD
BEGIN:DAYLIGHT
TZOFFSETFROM:-0700
TZOFFSETTO:-0600
TZNAME:MDT
DTSTART:20210314T090000
END:DAYLIGHT
BEGIN:STANDARD
TZOFFSETFROM:-0600
TZOFFSETTO:-0700
TZNAME:MST
DTSTART:20211107T080000
END:STANDARD
BEGIN:DAYLIGHT
TZOFFSETFROM:-0700
TZOFFSETTO:-0600
TZNAME:MDT
DTSTART:20220313T090000
END:DAYLIGHT
BEGIN:STANDARD
TZOFFSETFROM:-0600
TZOFFSETTO:-0700
TZNAME:MST
DTSTART:20221106T080000
END:STANDARD
END:VTIMEZONE
BEGIN:VEVENT
DTSTART;TZID=America/Edmonton:20210514T130000
DTEND;TZID=America/Edmonton:20210514T140000
DTSTAMP:20260425T054212
CREATED:20210504T011123Z
LAST-MODIFIED:20240904T235032Z
UID:10000271-1620997200-1621000800@safacalgary.com
SUMMARY:SAFA Town Hall
DESCRIPTION:The May town halls will discuss the latest negotiating team update that was sent out April 30th.   These events will be hosted by Al Brown\, SAFA Labour Relations Officer\, and the agenda will be the same for all monthly meetings—attend the one that best fits your schedule. Watch for meeting links in an upcoming email.
URL:https://safacalgary.com/event/safa-town-hall-3/
END:VEVENT
BEGIN:VEVENT
DTSTART;TZID=America/Edmonton:20210513T100000
DTEND;TZID=America/Edmonton:20210513T160000
DTSTAMP:20260425T054212
CREATED:20210412T230938Z
LAST-MODIFIED:20230917T202618Z
UID:10000268-1620900000-1620921600@safacalgary.com
SUMMARY:SAFA Election
DESCRIPTION:Open positions include Academic Council representatives and a Board of Governor representative. 
URL:https://safacalgary.com/event/safa-election/
END:VEVENT
BEGIN:VEVENT
DTSTART;TZID=America/Edmonton:20210512T140000
DTEND;TZID=America/Edmonton:20210512T153000
DTSTAMP:20260425T054212
CREATED:20210206T171509Z
LAST-MODIFIED:20230917T202624Z
UID:10000257-1620828000-1620833400@safacalgary.com
SUMMARY:Table of Officers Meeting
DESCRIPTION:The Table of Officers is composed of the President\, Secretary-Treasurer\, 6 divisional representatives\, and a past representative.  This committee manages the ongoing business of the Association.  
URL:https://safacalgary.com/event/table-of-officers-meeting-11/
END:VEVENT
BEGIN:VEVENT
DTSTART;TZID=America/Edmonton:20210512T100000
DTEND;TZID=America/Edmonton:20210512T110000
DTSTAMP:20260425T054212
CREATED:20210504T011022Z
LAST-MODIFIED:20240904T235032Z
UID:10000270-1620813600-1620817200@safacalgary.com
SUMMARY:SAFA Town Hall
DESCRIPTION:The May town halls will discuss the latest negotiating team update that was sent out April 30th.   These events will be hosted by Al Brown\, SAFA Labour Relations Officer\, and the agenda will be the same for all monthly meetings—attend the one that best fits your schedule. Watch for meeting links in an upcoming email.
URL:https://safacalgary.com/event/safa-town-hall-2/
END:VEVENT
BEGIN:VEVENT
DTSTART;TZID=America/Edmonton:20210511T170000
DTEND;TZID=America/Edmonton:20210511T180000
DTSTAMP:20260425T054212
CREATED:20210504T010926Z
LAST-MODIFIED:20240904T235032Z
UID:10000269-1620752400-1620756000@safacalgary.com
SUMMARY:SAFA Town Hall
DESCRIPTION:The May town halls will discuss the latest negotiating team update that was sent out April 30th.   These events will be hosted by Al Brown\, SAFA Labour Relations Officer\, and the agenda will be the same for all monthly meetings—attend the one that best fits your schedule. Watch for meeting links in an upcoming email.
URL:https://safacalgary.com/event/safa-town-hall/
END:VEVENT
BEGIN:VEVENT
DTSTART;TZID=America/Edmonton:20210505T140000
DTEND;TZID=America/Edmonton:20210505T153000
DTSTAMP:20260425T054212
CREATED:20210206T171415Z
LAST-MODIFIED:20230917T202654Z
UID:10000256-1620223200-1620228600@safacalgary.com
SUMMARY:Table of Officers Meeting
DESCRIPTION:The Table of Officers is composed of the President\, Secretary-Treasurer\, 6 divisional representatives\, and a past representative.  This committee manages the ongoing business of the Association.  
URL:https://safacalgary.com/event/table-of-officers-meeting-10/
END:VEVENT
BEGIN:VEVENT
DTSTART;TZID=America/Edmonton:20210504T160000
DTEND;TZID=America/Edmonton:20210504T173000
DTSTAMP:20260425T054212
CREATED:20210206T172837Z
LAST-MODIFIED:20230917T202659Z
UID:10000265-1620144000-1620149400@safacalgary.com
SUMMARY:Executive Council Meeting
DESCRIPTION:Executive Council is made up of the Table of Officers\, elected department/school representatives\, and the Board of Governors representatives. Representatives bring their constituent’s comments and concerns to council\, as well as provide guidance and support to members.   SAFA members interested in attending an Executive Council meeting can contact the SAFA office for information.
URL:https://safacalgary.com/event/executive-council-meeting-3/
END:VEVENT
BEGIN:VEVENT
DTSTART;TZID=America/Edmonton:20210428T140000
DTEND;TZID=America/Edmonton:20210428T153000
DTSTAMP:20260425T054212
CREATED:20210206T170918Z
LAST-MODIFIED:20230917T202706Z
UID:10000255-1619618400-1619623800@safacalgary.com
SUMMARY:Table of Officers Meeting
DESCRIPTION:The Table of Officers is composed of the President\, Secretary-Treasurer\, 6 divisional representatives\, and a past representative.  This committee manages the ongoing business of the Association.  
URL:https://safacalgary.com/event/table-of-officers-meeting-9/
END:VEVENT
BEGIN:VEVENT
DTSTART;TZID=America/Edmonton:20210421T140000
DTEND;TZID=America/Edmonton:20210421T153000
DTSTAMP:20260425T054212
CREATED:20210206T170737Z
LAST-MODIFIED:20230917T202712Z
UID:10000253-1619013600-1619019000@safacalgary.com
SUMMARY:Table of Officers Meeting
DESCRIPTION:The Table of Officers is composed of the President\, Secretary-Treasurer\, 6 divisional representatives\, and a past representative.  This committee manages the ongoing business of the Association.  
URL:https://safacalgary.com/event/table-of-officers-meeting-8/
END:VEVENT
BEGIN:VEVENT
DTSTART;TZID=America/Edmonton:20210414T140000
DTEND;TZID=America/Edmonton:20210414T153000
DTSTAMP:20260425T054212
CREATED:20210206T170613Z
LAST-MODIFIED:20230917T202717Z
UID:10000251-1618408800-1618414200@safacalgary.com
SUMMARY:Table of Officers Meeting
DESCRIPTION:The Table of Officers is composed of the President\, Secretary-Treasurer\, 6 divisional representatives\, and a past representative.  This committee manages the ongoing business of the Association.  
URL:https://safacalgary.com/event/table-of-officers-meeting-7/
END:VEVENT
BEGIN:VEVENT
DTSTART;TZID=America/Edmonton:20210407T140000
DTEND;TZID=America/Edmonton:20210407T153000
DTSTAMP:20260425T054212
CREATED:20210206T170505Z
LAST-MODIFIED:20230917T202722Z
UID:10000192-1617804000-1617809400@safacalgary.com
SUMMARY:Table of Officers Meeting
DESCRIPTION:The Table of Officers is composed of the President\, Secretary-Treasurer\, 6 divisional representatives\, and a past representative.  This committee manages the ongoing business of the Association.  
URL:https://safacalgary.com/event/table-of-officers-meeting-6/
END:VEVENT
BEGIN:VEVENT
DTSTART;TZID=America/Edmonton:20210406T160000
DTEND;TZID=America/Edmonton:20210406T173000
DTSTAMP:20260425T054212
CREATED:20210206T172608Z
LAST-MODIFIED:20230917T202734Z
UID:10000264-1617724800-1617730200@safacalgary.com
SUMMARY:Executive Council Meeting
DESCRIPTION:Executive Council is made up of the Table of Officers\, elected department/school representatives\, and the Board of Governors representatives. Representatives bring their constituent’s comments and concerns to council\, as well as provide guidance and support to members.   SAFA members interested in attending an Executive Council meeting can contact the SAFA office for information.
URL:https://safacalgary.com/event/executive-council-meeting-2/
END:VEVENT
BEGIN:VEVENT
DTSTART;TZID=America/Edmonton:20210331T140000
DTEND;TZID=America/Edmonton:20210331T153000
DTSTAMP:20260425T054212
CREATED:20210206T165532Z
LAST-MODIFIED:20230917T202740Z
UID:10000191-1617199200-1617204600@safacalgary.com
SUMMARY:Table of Officers Meeting
DESCRIPTION:The Table of Officers is composed of the President\, Secretary-Treasurer\, 6 divisional representatives\, and a past representative.  This committee manages the ongoing business of the Association.  
URL:https://safacalgary.com/event/table-of-officers-meeting-5/
END:VEVENT
BEGIN:VEVENT
DTSTART;TZID=America/Edmonton:20210324T140000
DTEND;TZID=America/Edmonton:20210324T153000
DTSTAMP:20260425T054212
CREATED:20210206T165425Z
LAST-MODIFIED:20230917T202747Z
UID:10000190-1616594400-1616599800@safacalgary.com
SUMMARY:Table of Officers Meeting
DESCRIPTION:The Table of Officers is composed of the President\, Secretary-Treasurer\, 6 divisional representatives\, and a past representative.  This committee manages the ongoing business of the Association.  
URL:https://safacalgary.com/event/table-of-officers-meeting-4/
END:VEVENT
BEGIN:VEVENT
DTSTART;TZID=America/Edmonton:20210318T150000
DTEND;TZID=America/Edmonton:20210318T160000
DTSTAMP:20260425T054212
CREATED:20210206T163524Z
LAST-MODIFIED:20230917T202753Z
UID:10000186-1616079600-1616083200@safacalgary.com
SUMMARY:Town Hall
DESCRIPTION:Do you have questions?  Ask us!  Town hall sessions will cover topics such as current negotiations\, vacation leave\, faculty evaluations\, on-campus activities\, and PD funds.  Bring your questions and concerns – your Labour Relations Officer or President will be hosting the event. \n\n\n\nThis event is for current SAFA members.  If you need the link to attend\, please check your SAIT email or contact the SAFA office. 
URL:https://safacalgary.com/event/town-hall-3/
END:VEVENT
BEGIN:VEVENT
DTSTART;TZID=America/Edmonton:20210317T140000
DTEND;TZID=America/Edmonton:20210317T153000
DTSTAMP:20260425T054212
CREATED:20210206T165322Z
LAST-MODIFIED:20230917T202801Z
UID:10000189-1615989600-1615995000@safacalgary.com
SUMMARY:Table of Officers Meeting
DESCRIPTION:The Table of Officers is composed of the President\, Secretary-Treasurer\, 6 divisional representatives\, and a past representative.  This committee manages the ongoing business of the Association.  
URL:https://safacalgary.com/event/table-of-officers-meeting-3/
END:VEVENT
BEGIN:VEVENT
DTSTART;TZID=America/Edmonton:20210310T140000
DTEND;TZID=America/Edmonton:20210310T153000
DTSTAMP:20260425T054212
CREATED:20210206T164916Z
LAST-MODIFIED:20230917T202806Z
UID:10000188-1615384800-1615390200@safacalgary.com
SUMMARY:Table of Officers Meeting
DESCRIPTION:The Table of Officers is composed of the President\, Secretary-Treasurer\, 6 divisional representatives\, and a past representative.  This committee manages the ongoing business of the Association.  
URL:https://safacalgary.com/event/table-of-officers-meeting-2/
END:VEVENT
BEGIN:VEVENT
DTSTART;TZID=America/Edmonton:20210303T140000
DTEND;TZID=America/Edmonton:20210303T153000
DTSTAMP:20260425T054212
CREATED:20210206T164747Z
LAST-MODIFIED:20230917T202812Z
UID:10000187-1614780000-1614785400@safacalgary.com
SUMMARY:Table of Officers Meeting
DESCRIPTION:The Table of Officers is composed of the President\, Secretary-Treasurer\, 6 divisional representatives\, and a past representative.  This committee manages the ongoing business of the Association.  
URL:https://safacalgary.com/event/table-of-officers-meeting/
END:VEVENT
BEGIN:VEVENT
DTSTART;TZID=America/Edmonton:20210302T160000
DTEND;TZID=America/Edmonton:20210302T173000
DTSTAMP:20260425T054212
CREATED:20210206T172454Z
LAST-MODIFIED:20230917T202817Z
UID:10000263-1614700800-1614706200@safacalgary.com
SUMMARY:Executive Council Meeting
DESCRIPTION:Executive Council is made up of the Table of Officers\, elected department/school representatives\, and the Board of Governors representatives. Representatives bring their constituent’s comments and concerns to council\, as well as provide guidance and support to members.   SAFA members interested in attending an Executive Council meeting can contact the SAFA office for information.
URL:https://safacalgary.com/event/executive-council-meeting/
END:VEVENT
BEGIN:VEVENT
DTSTART;TZID=America/Edmonton:20210302T130000
DTEND;TZID=America/Edmonton:20210302T140000
DTSTAMP:20260425T054212
CREATED:20210206T163329Z
LAST-MODIFIED:20230917T202823Z
UID:10000185-1614690000-1614693600@safacalgary.com
SUMMARY:Town Hall
DESCRIPTION:Do you have questions?  Ask us!  Town hall sessions will cover topics such as current negotiations\, vacation leave\, faculty evaluations\, on-campus activities\, and PD funds.  Bring your questions and concerns – your Labour Relations Officer or President will be hosting the event. \n\n\n\nThis event is for current SAFA members.  If you need the link to attend\, please check your SAIT email or contact the SAFA office. 
URL:https://safacalgary.com/event/town-hall-2/
END:VEVENT
BEGIN:VEVENT
DTSTART;TZID=America/Edmonton:20210224T100000
DTEND;TZID=America/Edmonton:20210224T110000
DTSTAMP:20260425T054212
CREATED:20210206T163108Z
LAST-MODIFIED:20230917T202829Z
UID:10000184-1614160800-1614164400@safacalgary.com
SUMMARY:Town Hall
DESCRIPTION:Do you have questions?  Ask us!  Town hall sessions will cover topics such as current negotiations\, vacation leave\, faculty evaluations\, on-campus activities\, and PD funds.  Bring your questions and concerns – your Labour Relations Officer or President will be hosting the event. \n\n\n\nThis event is for current SAFA members.  If you need the link to attend\, please check your SAIT email or contact the SAFA office. 
URL:https://safacalgary.com/event/town-hall/
END:VEVENT
BEGIN:VEVENT
DTSTART;TZID=America/Edmonton:20210104T000000
DTEND;TZID=America/Edmonton:20210104T235959
DTSTAMP:20260425T054212
CREATED:20201120T023820Z
LAST-MODIFIED:20230917T202837Z
UID:10000183-1609718400-1609804799@safacalgary.com
SUMMARY:Return to Work
DESCRIPTION:Return to Work from Christmas Leave Monday\, January 4\, 2021
URL:https://safacalgary.com/event/return-to-work/
END:VEVENT
BEGIN:VEVENT
DTSTART;TZID=America/Edmonton:20201224T000000
DTEND;TZID=America/Edmonton:20201224T235900
DTSTAMP:20260425T054212
CREATED:20201119T190000Z
LAST-MODIFIED:20230917T202849Z
UID:10000249-1608768000-1608854340@safacalgary.com
SUMMARY:Christmas Floater Day
DESCRIPTION:Christmas break begins with the Christmas Floater Day\, December 24\, 2020.
URL:https://safacalgary.com/event/christmas-floater-day/
END:VEVENT
BEGIN:VEVENT
DTSTART;TZID=America/Edmonton:20200905T080000
DTEND;TZID=America/Edmonton:20200905T170000
DTSTAMP:20260425T054212
CREATED:20200905T060005Z
LAST-MODIFIED:20230917T202905Z
UID:10000247-1599292800-1599325200@safacalgary.com
SUMMARY:Cobb's Adventure Park
DESCRIPTION:Cobbs Adventure Park has the proper social distancing protocols in place\, so we feel like we can still offer the fun family day event. \n\n\n\nSAFA members and their families are invited to a day out at Cobbs Adventure Park (1500 84th Street N.E.) \n\n\n\nThis year you will be required to choose which date – the Saturday (Sept. 19) or Sunday (Sept. 20) you would like to attend.  We will also be staggering the entrance times for each day – you can choose to arrive at one of the following times (please note – everyone will be able to stay until 5:00 – we are only staggering the entrance and lunch times for social distancing): \n\n\n\nArrive between 11:30 – 12:30 – lunch will be available for this group from 12:00 – 1:00Arrive between 12:30 – 1:30 – lunch will be available for this group from 1:00 – 2:00Arrive between 1:30 – 2:30 – lunch will be available for this group from 2:00 – 3:00\n\n\n\nYou will receive complimentary passes into the corn maze\, plus free rides (including Axe throwing)\, and lunch courtesy of SAFA. \n\n\n\nIf you would like to attend this function\, please email kathie.dann@sait.ca. \n\n\n\n** You must state: How many tickets\, which day\, and which arrival time you would like.                                                                                               
URL:https://safacalgary.com/event/cobbs-adventure-park-2020/
CATEGORIES:Social Events
END:VEVENT
BEGIN:VEVENT
DTSTART;TZID=America/Edmonton:20200611T160000
DTEND;TZID=America/Edmonton:20200611T183000
DTSTAMP:20260425T054212
CREATED:20200409T185303Z
LAST-MODIFIED:20200521T171833Z
UID:10000245-1591891200-1591900200@safacalgary.com
SUMMARY:SAFA AGM
DESCRIPTION:Click here for the link to join the live meeting. \n 
URL:https://safacalgary.com/event/safa-agm-2/
END:VEVENT
BEGIN:VEVENT
DTSTART;TZID=America/Edmonton:20200521T160000
DTEND;TZID=America/Edmonton:20200521T193000
DTSTAMP:20260425T054212
CREATED:20200305T080000Z
LAST-MODIFIED:20200401T022737Z
UID:10000240-1590076800-1590089400@safacalgary.com
SUMMARY:Cancelled - SAFA/AUPE BBQ 2020
DESCRIPTION:Please join us for delicious appetizers and refreshments at the Annual BBQ on Thursday\, May 21\, 2020 4:00 pm -7:30 pm.  Join your colleagues for two complimentary drinks (per person) and some delicious food to celebrate sunny times at the 4Nines in the John Ware Building.  Free taxi chits are available for your trip home. Proceeds from the Raffle benefit the Calgary Women’s Emergency Shelter.
URL:https://safacalgary.com/event/safa-aupe-bbq-2020/
CATEGORIES:Social Events
END:VEVENT
BEGIN:VEVENT
DTSTART;TZID=America/Edmonton:20200510T180000
DTEND;TZID=America/Edmonton:20200513T090000
DTSTAMP:20260425T054212
CREATED:20200212T221100Z
LAST-MODIFIED:20200403T162948Z
UID:10000236-1589133600-1589360400@safacalgary.com
SUMMARY:Cancelled - ACIFA Conference 2020
DESCRIPTION:SAFA subsidizes up to 40 Faculty members who wish to attend this conference (you need to register for the conference through the SAFA office to qualify). \nThe 2020 conference is hosted by the Keyano Faculty Association. The theme is 20/20 Vision – Clarity in Education. Held at the scenic Jasper Park Lodge\, this conference showcases sessions presented by faculty of Alberta institutions and colleges.  This year’s Keynote speakers are Dr. Alex Clarke and Bailey Sousa from the Peter Lougheed Leadership College at the University of Alberta.  The topic will be learning from what challenges you the most. To complement the stimulating sessions\, there are lots of fun activities planned.  Check out this edition of the ACIFA Faculty Circuit for all the details. \nSunday\, May 10 (Reception in the evening with finger foods) to Wednesday\, May 13\, 2019 (breakfast is not included in the conference fee). \nNo Registration refunds will be given after April 15\, 2020.
URL:https://safacalgary.com/event/acifa-conference-2020/
CATEGORIES:ACIFA Conference
END:VEVENT
BEGIN:VEVENT
DTSTART;TZID=America/Edmonton:20200507T100000
DTEND;TZID=America/Edmonton:20200507T160000
DTSTAMP:20260425T054212
CREATED:20200219T180251Z
LAST-MODIFIED:20200429T185501Z
UID:10000238-1588845600-1588867200@safacalgary.com
SUMMARY:SAFA Election - Electronic Voting 2020
DESCRIPTION:Watch your email for a personalized link to vote in the SAFA Electronic Election.  The emails for the Electronic Voting will be sent on the day of the Electronic Election; Thursday\, May 07\, 2020. Your personalized link for voting will be valid from 10 am to 4 pm (MST) on Thursday\, May 07\, 2020 only. \nPlease contact the SAFA office ASAP if you do not receive an email from SAFA/Survey Monkey to vote or if you have difficulties voting.  \nThe positions up for election this year are: \nSAFA President\, SAFA Secretary-Treasurer\, Table of Officers (currently SAFA Executive)\, SAFA Executive (currently Faculty Council)\, Six (6) Academic Council members\, Faculty Board of Governors representative\, and\, Health & Safety Environment Council.
URL:https://safacalgary.com/event/safa-election-electronic-voting-2020/
CATEGORIES:Business
END:VEVENT
BEGIN:VEVENT
DTSTART;TZID=America/Edmonton:20200328T230000
DTEND;TZID=America/Edmonton:20200328T230000
DTSTAMP:20260425T054212
CREATED:20190619T155154Z
LAST-MODIFIED:20200319T191914Z
UID:10000232-1585436400-1585436400@safacalgary.com
SUMMARY:Cancelled - Casino Night
DESCRIPTION:This adult only event is a lot of fun and receives rave reviews!  Enjoy the evening with 3 of your loved ones or friends and gamble away $50\,000 dollars each worth of fun money.  There are raffle tickets available to buy with your “winnings” to turn imaginary money into tangible gifts!  The first two drinks are free (cash bar available) and appetizers are served.  Please help yourself to a complimentary taxi chit to end the evening safely! \nTickets are $5.00 each and each SAFA member may purchase up to 4 tickets for this adult only event. \nBecause this event is held at the Gateway\, do not forget to bring your government ID.
URL:https://safacalgary.com/event/casino-night-2/
LOCATION:The Gateway\, 1301 16 Ave NW\, Calgary\, Alberta\, T2M 0L4\, Canada
CATEGORIES:Social Events
END:VEVENT
BEGIN:VEVENT
DTSTART;TZID=America/Edmonton:20200310T090000
DTEND;TZID=America/Edmonton:20200402T160000
DTSTAMP:20260425T054212
CREATED:20200311T192842Z
LAST-MODIFIED:20200316T215638Z
UID:10000242-1583830800-1585843200@safacalgary.com
SUMMARY:Nominations accepted for open SAFA election positions
DESCRIPTION:In the event the SAFA office is not open\, please scan your forms (without signatures if necessary) to kathie.dann@sait.ca \nThe positions available are: \nTable of Officers (currently SAFA Executive):  Term – July 1\, 2020 – June 30\, 2022 \nSAFA President \nSecretary/Treasurer \nTwo Representatives in each of the following: \nDivision I\, Division II and Division III for a two-year Term\, and one Representative in Division IV \nAcademic Council – Term – July 1\, 2020 – June 30\, 2022 \nRepresentative(s) for each of these Divisions– Division I (one Rep.)\, Division II (two Reps.)\, Division III (two Reps.)\, and Division IV( one Rep.)  \nSAFA Executive (currently Faculty Council) – Term – July 1\, 2020 – June 30\, 2022 \nSAFA is in need of One Representative plus One Alternate for each Department (Not Division).  \nBoard of Governors— One Board of Governor Representative: \nOne position for a Two year term – July 1\, 2020 – June 30\, 2022 \nHealth & Safety Environment Council – Term – July 1\, 2020 – June 30\, 2022 \nSAFA requires three Representatives \nThe nomination forms have to be filled out and returned to the SAFA Office by: \n Thursday\, April 2 at 4:00 P.M.  We also have copies of the Election notice if you require a hard copy. \nJust a Reminder : \nDivision I consists of    — Construction\, Manufacturing & Automation\, Transportation. \nDivision II consists of —   Information & Communications Technologies\, Energy \nDivision III consists of — Business\, Hospitality & Tourism\, Health & Public Safety                                   \nDivision IV consists of – Centre for Applied Education Innovation (CAEI)\, Learner and Academic Services\, Librarians & Educational Counsellors
URL:https://safacalgary.com/event/nominations-for-open-safa-election-positions/
END:VEVENT
END:VCALENDAR