BEGIN:VCALENDAR
VERSION:2.0
PRODID:-//SAIT Academic Faculty Association - ECPv6.15.20//NONSGML v1.0//EN
CALSCALE:GREGORIAN
METHOD:PUBLISH
X-ORIGINAL-URL:https://safacalgary.com
X-WR-CALDESC:Events for SAIT Academic Faculty Association
REFRESH-INTERVAL;VALUE=DURATION:PT1H
X-Robots-Tag:noindex
X-PUBLISHED-TTL:PT1H
BEGIN:VTIMEZONE
TZID:America/Edmonton
BEGIN:DAYLIGHT
TZOFFSETFROM:-0700
TZOFFSETTO:-0600
TZNAME:MDT
DTSTART:20200308T090000
END:DAYLIGHT
BEGIN:STANDARD
TZOFFSETFROM:-0600
TZOFFSETTO:-0700
TZNAME:MST
DTSTART:20201101T080000
END:STANDARD
BEGIN:DAYLIGHT
TZOFFSETFROM:-0700
TZOFFSETTO:-0600
TZNAME:MDT
DTSTART:20210314T090000
END:DAYLIGHT
BEGIN:STANDARD
TZOFFSETFROM:-0600
TZOFFSETTO:-0700
TZNAME:MST
DTSTART:20211107T080000
END:STANDARD
BEGIN:DAYLIGHT
TZOFFSETFROM:-0700
TZOFFSETTO:-0600
TZNAME:MDT
DTSTART:20220313T090000
END:DAYLIGHT
BEGIN:STANDARD
TZOFFSETFROM:-0600
TZOFFSETTO:-0700
TZNAME:MST
DTSTART:20221106T080000
END:STANDARD
END:VTIMEZONE
BEGIN:VEVENT
DTSTART;TZID=America/Edmonton:20211122T160000
DTEND;TZID=America/Edmonton:20211122T170000
DTSTAMP:20260424T005047
CREATED:20211004T235904Z
LAST-MODIFIED:20230917T202221Z
UID:10000286-1637596800-1637600400@safacalgary.com
SUMMARY:SAFA Townhall - All Schools and Departments
DESCRIPTION:
URL:https://safacalgary.com/event/safa-townhall-all-schools-and-departments/
END:VEVENT
BEGIN:VEVENT
DTSTART;TZID=America/Edmonton:20211115T130000
DTEND;TZID=America/Edmonton:20211115T140000
DTSTAMP:20260424T005047
CREATED:20211004T235743Z
LAST-MODIFIED:20230917T202228Z
UID:10000285-1636981200-1636984800@safacalgary.com
SUMMARY:SAFA Townhall - M&A\, Transportation
DESCRIPTION:We want to hear from you!  SAFA will host general online town hall meetings throughout the fall semester to touch base with members on a range of issues.
URL:https://safacalgary.com/event/safa-townhall-ma-transportation/
END:VEVENT
BEGIN:VEVENT
DTSTART;TZID=America/Edmonton:20211109T100000
DTEND;TZID=America/Edmonton:20211109T110000
DTSTAMP:20260424T005047
CREATED:20211004T235629Z
LAST-MODIFIED:20230917T202324Z
UID:10000284-1636452000-1636455600@safacalgary.com
SUMMARY:SAFA Townhall - Energy
DESCRIPTION:We want to hear from you!  SAFA will host general online town hall meetings throughout the fall semester to touch base with members on a range of issues.
URL:https://safacalgary.com/event/safa-townhall-energy/
END:VEVENT
BEGIN:VEVENT
DTSTART;TZID=America/Edmonton:20211108T130000
DTEND;TZID=America/Edmonton:20211108T140000
DTSTAMP:20260424T005047
CREATED:20211004T235434Z
LAST-MODIFIED:20230917T202331Z
UID:10000283-1636376400-1636380000@safacalgary.com
SUMMARY:SAFA Townhall - Learner Services\, Academic Services and CADI
DESCRIPTION:We want to hear from you!  SAFA will host general online town hall meetings throughout the fall semester to touch base with members on a range of issues.
URL:https://safacalgary.com/event/safa-townhall-learner-services-academic-services-and-cadi/
END:VEVENT
BEGIN:VEVENT
DTSTART;TZID=America/Edmonton:20211103T090000
DTEND;TZID=America/Edmonton:20211103T100000
DTSTAMP:20260424T005047
CREATED:20211004T235219Z
LAST-MODIFIED:20230917T202336Z
UID:10000282-1635930000-1635933600@safacalgary.com
SUMMARY:SAFA Townhall - HPS
DESCRIPTION:We want to hear from you!  SAFA will host general online town hall meetings throughout the fall semester to touch base with members on a range of issues.
URL:https://safacalgary.com/event/safa-townhall-hps/
END:VEVENT
BEGIN:VEVENT
DTSTART;TZID=America/Edmonton:20211102T100000
DTEND;TZID=America/Edmonton:20211102T110000
DTSTAMP:20260424T005047
CREATED:20211004T234930Z
LAST-MODIFIED:20230917T202356Z
UID:10000281-1635847200-1635850800@safacalgary.com
SUMMARY:SAFA Townhall - Construction
DESCRIPTION:We want to hear from you!  SAFA will host general online town hall meetings throughout the fall semester to touch base with members on a range of issues.
URL:https://safacalgary.com/event/safa-townhall-construction/
END:VEVENT
BEGIN:VEVENT
DTSTART;TZID=America/Edmonton:20211018T140000
DTEND;TZID=America/Edmonton:20211018T150000
DTSTAMP:20260424T005047
CREATED:20211004T195828Z
LAST-MODIFIED:20230917T202426Z
UID:10000279-1634565600-1634569200@safacalgary.com
SUMMARY:SAFA Townhall - H&T
DESCRIPTION:We want to hear from you!  SAFA will host general online town hall meetings throughout the fall semester to touch base with members on a range of issues.
URL:https://safacalgary.com/event/safa-townhall-2/
END:VEVENT
BEGIN:VEVENT
DTSTART;TZID=America/Edmonton:20211018T090000
DTEND;TZID=America/Edmonton:20211018T100000
DTSTAMP:20260424T005047
CREATED:20211004T195951Z
LAST-MODIFIED:20230917T202432Z
UID:10000280-1634547600-1634551200@safacalgary.com
SUMMARY:SAFA Townhall - Business
DESCRIPTION:New Date! We want to hear from you!  SAFA will host general online town hall meetings throughout the fall semester to touch base with members on a range of issues.
URL:https://safacalgary.com/event/safa-townhall-business/
END:VEVENT
BEGIN:VEVENT
DTSTART;TZID=America/Edmonton:20211014T150000
DTEND;TZID=America/Edmonton:20211014T160000
DTSTAMP:20260424T005047
CREATED:20211004T195703Z
LAST-MODIFIED:20230917T202439Z
UID:10000278-1634223600-1634227200@safacalgary.com
SUMMARY:SAFA Townhall - ICT & SADT
DESCRIPTION:We want to hear from you!  SAFA will host general online town hall meetings throughout the fall semester to touch base with members on a range of issues.
URL:https://safacalgary.com/event/safa-townhall/
END:VEVENT
BEGIN:VEVENT
DTSTART;TZID=America/Edmonton:20210928T160000
DTEND;TZID=America/Edmonton:20210928T170000
DTSTAMP:20260424T005047
CREATED:20210924T195131Z
LAST-MODIFIED:20230917T202446Z
UID:10000277-1632844800-1632848400@safacalgary.com
SUMMARY:COVID Restrictions Townhall
DESCRIPTION:SAFA continues to advocate for our members as information around vaccine reporting and rapid testing requirements is announced by SAIT.  To better understand member concerns\, issues\, and priorities\, we will be holding an additional online town hall event to discuss COVID restrictions as well as return to campus and work from home procedures.This event will be hosted by Al Brown\, SAFA Labour Relations Officer.
URL:https://safacalgary.com/event/covid-restrictions-townhall/
END:VEVENT
BEGIN:VEVENT
DTSTART;TZID=America/Edmonton:20210925T110000
DTEND;TZID=America/Edmonton:20210925T170000
DTSTAMP:20260424T005047
CREATED:20210903T190938Z
LAST-MODIFIED:20230917T202457Z
UID:10000275-1632567600-1632589200@safacalgary.com
SUMMARY:Cobb's Adventure Park
DESCRIPTION:SAFA members and their families are invited to a day out at Cobbs Adventure Park (1500 84th Street N.E.).  Buffet lunch will be served between 12:00 – 2:00.  \n\n\n\nYou will receive complimentary passes into the corn maze\, plus free rides (including Axe throwing)\, and lunch courtesy of SAFA. \n\n\n\nIf you would like to attend this function\, please email kathie.dann@sait.ca. \n\n\n\nPlease note – paper tickets will not be handed out this year\, everything will be done electronically. ** \n\n\n\nHere is the website for Cobbs Adventure Park. \n\n\n\nCobb’s Adventure Park (cobbsadventurepark.com)
URL:https://safacalgary.com/event/cobbs-adventure-park-2/
END:VEVENT
BEGIN:VEVENT
DTSTART;TZID=America/Edmonton:20210924T090000
DTEND;TZID=America/Edmonton:20210924T100000
DTSTAMP:20260424T005047
CREATED:20210922T230855Z
LAST-MODIFIED:20230917T202503Z
UID:10000276-1632474000-1632477600@safacalgary.com
SUMMARY:COVID restrictions Town Hall
DESCRIPTION:SAFA continues to advocate for our members as information around vaccine reporting and rapid testing requirements is announced by SAIT.  To better understand member concerns\, issues\, and priorities\, we will be holding an online town hall event to discuss COVID restrictions as well as return to campus and work from home procedures. This event will be hosted by Al Brown\, SAFA Labour Relations Officer.
URL:https://safacalgary.com/event/covid-restrictions-town-hall/
END:VEVENT
BEGIN:VEVENT
DTSTART;TZID=America/Edmonton:20210623T140000
DTEND;TZID=America/Edmonton:20210623T153000
DTSTAMP:20260424T005047
CREATED:20210206T172111Z
LAST-MODIFIED:20230917T202513Z
UID:10000262-1624456800-1624462200@safacalgary.com
SUMMARY:Table of Officers Meeting
DESCRIPTION:The Table of Officers is composed of the President\, Secretary-Treasurer\, 6 divisional representatives\, and a past representative.  This committee manages the ongoing business of the Association.  
URL:https://safacalgary.com/event/table-of-officers-meeting-16/
END:VEVENT
BEGIN:VEVENT
DTSTART;TZID=America/Edmonton:20210617T170000
DTEND;TZID=America/Edmonton:20210617T180000
DTSTAMP:20260424T005047
CREATED:20210609T233043Z
LAST-MODIFIED:20230917T202519Z
UID:10000274-1623949200-1623952800@safacalgary.com
SUMMARY:SAFA Town Hall
DESCRIPTION:The June town hall meeting series will provide the latest bargaining update – bring your questions and your comments! Click this link to attend: https://bit.ly/3vx7DB8
URL:https://safacalgary.com/event/safa-town-hall-6/
END:VEVENT
BEGIN:VEVENT
DTSTART;TZID=America/Edmonton:20210616T140000
DTEND;TZID=America/Edmonton:20210616T153000
DTSTAMP:20260424T005047
CREATED:20210206T172020Z
LAST-MODIFIED:20230917T202524Z
UID:10000261-1623852000-1623857400@safacalgary.com
SUMMARY:Table of Officers Meeting
DESCRIPTION:The Table of Officers is composed of the President\, Secretary-Treasurer\, 6 divisional representatives\, and a past representative.  This committee manages the ongoing business of the Association.  
URL:https://safacalgary.com/event/table-of-officers-meeting-15/
END:VEVENT
BEGIN:VEVENT
DTSTART;TZID=America/Edmonton:20210615T140000
DTEND;TZID=America/Edmonton:20210615T150000
DTSTAMP:20260424T005047
CREATED:20210609T232927Z
LAST-MODIFIED:20230917T202529Z
UID:10000273-1623765600-1623769200@safacalgary.com
SUMMARY:SAFA Town Hall
DESCRIPTION:The June town hall meeting series will provide the latest bargaining update – bring your questions and your comments! Click this link to attend: https://bit.ly/3thcNjf *NEW TIME*
URL:https://safacalgary.com/event/safa-town-hall-5/
END:VEVENT
BEGIN:VEVENT
DTSTART;TZID=America/Edmonton:20210614T130000
DTEND;TZID=America/Edmonton:20210614T140000
DTSTAMP:20260424T005047
CREATED:20210609T232757Z
LAST-MODIFIED:20230917T202535Z
UID:10000272-1623675600-1623679200@safacalgary.com
SUMMARY:SAFA Town Hall
DESCRIPTION:The June town hall meeting series will provide the latest bargaining update – bring your questions and your comments! Click this link to attend: https://bit.ly/3vEwUtf
URL:https://safacalgary.com/event/safa-town-hall-4/
END:VEVENT
BEGIN:VEVENT
DTSTART;TZID=America/Edmonton:20210610T160000
DTEND;TZID=America/Edmonton:20210610T160000
DTSTAMP:20260424T005047
CREATED:20210320T161755Z
LAST-MODIFIED:20230917T202541Z
UID:10000267-1623340800-1623340800@safacalgary.com
SUMMARY:SAFA AGM
DESCRIPTION:The Annual General Meeting will be June 10\, 2021\, at 4:00pm. Please plan to attend\, as quorum is needed to review and approve the annual budget\, member motions\, and the updated bylaws.  An email was sent with further information and documents – please contact safa@sait.ca if you did not receive that email.  To join the meeting: https://bit.ly/3wRI3HK
URL:https://safacalgary.com/event/safa-agm-3/
END:VEVENT
BEGIN:VEVENT
DTSTART;TZID=America/Edmonton:20210602T140000
DTEND;TZID=America/Edmonton:20210602T153000
DTSTAMP:20260424T005047
CREATED:20210206T171831Z
LAST-MODIFIED:20230917T202548Z
UID:10000260-1622642400-1622647800@safacalgary.com
SUMMARY:Table of Officers Meeting
DESCRIPTION:The Table of Officers is composed of the President\, Secretary-Treasurer\, 6 divisional representatives\, and a past representative.  This committee manages the ongoing business of the Association.  
URL:https://safacalgary.com/event/table-of-officers-meeting-14/
END:VEVENT
BEGIN:VEVENT
DTSTART;TZID=America/Edmonton:20210601T160000
DTEND;TZID=America/Edmonton:20210601T173000
DTSTAMP:20260424T005047
CREATED:20210206T172944Z
LAST-MODIFIED:20230917T202554Z
UID:10000266-1622563200-1622568600@safacalgary.com
SUMMARY:Executive Council Meeting
DESCRIPTION:Executive Council is made up of the Table of Officers\, elected department/school representatives\, and the Board of Governors representatives. Representatives bring their constituent’s comments and concerns to council\, as well as provide guidance and support to members.   SAFA members interested in attending an Executive Council meeting can contact the SAFA office for information.
URL:https://safacalgary.com/event/executive-council-meeting-4/
END:VEVENT
BEGIN:VEVENT
DTSTART;TZID=America/Edmonton:20210526T140000
DTEND;TZID=America/Edmonton:20210526T153000
DTSTAMP:20260424T005047
CREATED:20210206T171657Z
LAST-MODIFIED:20230917T202601Z
UID:10000259-1622037600-1622043000@safacalgary.com
SUMMARY:Table of Officers Meeting
DESCRIPTION:The Table of Officers is composed of the President\, Secretary-Treasurer\, 6 divisional representatives\, and a past representative.  This committee manages the ongoing business of the Association.  
URL:https://safacalgary.com/event/table-of-officers-meeting-13/
END:VEVENT
BEGIN:VEVENT
DTSTART;TZID=America/Edmonton:20210519T140000
DTEND;TZID=America/Edmonton:20210519T153000
DTSTAMP:20260424T005047
CREATED:20210206T171601Z
LAST-MODIFIED:20230917T202607Z
UID:10000258-1621432800-1621438200@safacalgary.com
SUMMARY:Table of Officers Meeting
DESCRIPTION:The Table of Officers is composed of the President\, Secretary-Treasurer\, 6 divisional representatives\, and a past representative.  This committee manages the ongoing business of the Association.  
URL:https://safacalgary.com/event/table-of-officers-meeting-12/
END:VEVENT
BEGIN:VEVENT
DTSTART;TZID=America/Edmonton:20210514T130000
DTEND;TZID=America/Edmonton:20210514T140000
DTSTAMP:20260424T005047
CREATED:20210504T011123Z
LAST-MODIFIED:20240904T235032Z
UID:10000271-1620997200-1621000800@safacalgary.com
SUMMARY:SAFA Town Hall
DESCRIPTION:The May town halls will discuss the latest negotiating team update that was sent out April 30th.   These events will be hosted by Al Brown\, SAFA Labour Relations Officer\, and the agenda will be the same for all monthly meetings—attend the one that best fits your schedule. Watch for meeting links in an upcoming email.
URL:https://safacalgary.com/event/safa-town-hall-3/
END:VEVENT
BEGIN:VEVENT
DTSTART;TZID=America/Edmonton:20210513T100000
DTEND;TZID=America/Edmonton:20210513T160000
DTSTAMP:20260424T005047
CREATED:20210412T230938Z
LAST-MODIFIED:20230917T202618Z
UID:10000268-1620900000-1620921600@safacalgary.com
SUMMARY:SAFA Election
DESCRIPTION:Open positions include Academic Council representatives and a Board of Governor representative. 
URL:https://safacalgary.com/event/safa-election/
END:VEVENT
BEGIN:VEVENT
DTSTART;TZID=America/Edmonton:20210512T140000
DTEND;TZID=America/Edmonton:20210512T153000
DTSTAMP:20260424T005047
CREATED:20210206T171509Z
LAST-MODIFIED:20230917T202624Z
UID:10000257-1620828000-1620833400@safacalgary.com
SUMMARY:Table of Officers Meeting
DESCRIPTION:The Table of Officers is composed of the President\, Secretary-Treasurer\, 6 divisional representatives\, and a past representative.  This committee manages the ongoing business of the Association.  
URL:https://safacalgary.com/event/table-of-officers-meeting-11/
END:VEVENT
BEGIN:VEVENT
DTSTART;TZID=America/Edmonton:20210512T100000
DTEND;TZID=America/Edmonton:20210512T110000
DTSTAMP:20260424T005047
CREATED:20210504T011022Z
LAST-MODIFIED:20240904T235032Z
UID:10000270-1620813600-1620817200@safacalgary.com
SUMMARY:SAFA Town Hall
DESCRIPTION:The May town halls will discuss the latest negotiating team update that was sent out April 30th.   These events will be hosted by Al Brown\, SAFA Labour Relations Officer\, and the agenda will be the same for all monthly meetings—attend the one that best fits your schedule. Watch for meeting links in an upcoming email.
URL:https://safacalgary.com/event/safa-town-hall-2/
END:VEVENT
BEGIN:VEVENT
DTSTART;TZID=America/Edmonton:20210511T170000
DTEND;TZID=America/Edmonton:20210511T180000
DTSTAMP:20260424T005047
CREATED:20210504T010926Z
LAST-MODIFIED:20240904T235032Z
UID:10000269-1620752400-1620756000@safacalgary.com
SUMMARY:SAFA Town Hall
DESCRIPTION:The May town halls will discuss the latest negotiating team update that was sent out April 30th.   These events will be hosted by Al Brown\, SAFA Labour Relations Officer\, and the agenda will be the same for all monthly meetings—attend the one that best fits your schedule. Watch for meeting links in an upcoming email.
URL:https://safacalgary.com/event/safa-town-hall/
END:VEVENT
BEGIN:VEVENT
DTSTART;TZID=America/Edmonton:20210505T140000
DTEND;TZID=America/Edmonton:20210505T153000
DTSTAMP:20260424T005047
CREATED:20210206T171415Z
LAST-MODIFIED:20230917T202654Z
UID:10000256-1620223200-1620228600@safacalgary.com
SUMMARY:Table of Officers Meeting
DESCRIPTION:The Table of Officers is composed of the President\, Secretary-Treasurer\, 6 divisional representatives\, and a past representative.  This committee manages the ongoing business of the Association.  
URL:https://safacalgary.com/event/table-of-officers-meeting-10/
END:VEVENT
BEGIN:VEVENT
DTSTART;TZID=America/Edmonton:20210504T160000
DTEND;TZID=America/Edmonton:20210504T173000
DTSTAMP:20260424T005047
CREATED:20210206T172837Z
LAST-MODIFIED:20230917T202659Z
UID:10000265-1620144000-1620149400@safacalgary.com
SUMMARY:Executive Council Meeting
DESCRIPTION:Executive Council is made up of the Table of Officers\, elected department/school representatives\, and the Board of Governors representatives. Representatives bring their constituent’s comments and concerns to council\, as well as provide guidance and support to members.   SAFA members interested in attending an Executive Council meeting can contact the SAFA office for information.
URL:https://safacalgary.com/event/executive-council-meeting-3/
END:VEVENT
BEGIN:VEVENT
DTSTART;TZID=America/Edmonton:20210428T140000
DTEND;TZID=America/Edmonton:20210428T153000
DTSTAMP:20260424T005047
CREATED:20210206T170918Z
LAST-MODIFIED:20230917T202706Z
UID:10000255-1619618400-1619623800@safacalgary.com
SUMMARY:Table of Officers Meeting
DESCRIPTION:The Table of Officers is composed of the President\, Secretary-Treasurer\, 6 divisional representatives\, and a past representative.  This committee manages the ongoing business of the Association.  
URL:https://safacalgary.com/event/table-of-officers-meeting-9/
END:VEVENT
END:VCALENDAR