BEGIN:VCALENDAR
VERSION:2.0
PRODID:-//SAIT Academic Faculty Association - ECPv6.15.20//NONSGML v1.0//EN
CALSCALE:GREGORIAN
METHOD:PUBLISH
X-WR-CALNAME:SAIT Academic Faculty Association
X-ORIGINAL-URL:https://safacalgary.com
X-WR-CALDESC:Events for SAIT Academic Faculty Association
REFRESH-INTERVAL;VALUE=DURATION:PT1H
X-Robots-Tag:noindex
X-PUBLISHED-TTL:PT1H
BEGIN:VTIMEZONE
TZID:America/Edmonton
BEGIN:DAYLIGHT
TZOFFSETFROM:-0700
TZOFFSETTO:-0600
TZNAME:MDT
DTSTART:20160313T090000
END:DAYLIGHT
BEGIN:STANDARD
TZOFFSETFROM:-0600
TZOFFSETTO:-0700
TZNAME:MST
DTSTART:20161106T080000
END:STANDARD
BEGIN:DAYLIGHT
TZOFFSETFROM:-0700
TZOFFSETTO:-0600
TZNAME:MDT
DTSTART:20170312T090000
END:DAYLIGHT
BEGIN:STANDARD
TZOFFSETFROM:-0600
TZOFFSETTO:-0700
TZNAME:MST
DTSTART:20171105T080000
END:STANDARD
BEGIN:DAYLIGHT
TZOFFSETFROM:-0700
TZOFFSETTO:-0600
TZNAME:MDT
DTSTART:20180311T090000
END:DAYLIGHT
BEGIN:STANDARD
TZOFFSETFROM:-0600
TZOFFSETTO:-0700
TZNAME:MST
DTSTART:20181104T080000
END:STANDARD
END:VTIMEZONE
BEGIN:VEVENT
DTSTART;TZID=America/Edmonton:20170923T110000
DTEND;TZID=America/Edmonton:20170923T170000
DTSTAMP:20260425T083513
CREATED:20170601T150941Z
LAST-MODIFIED:20170615T192403Z
UID:10000198-1506164400-1506186000@safacalgary.com
SUMMARY:Cobb's Adventure Park & Corn Maze
DESCRIPTION:SAFA members and their families are invited to a day out at Cobb’s Adventure Park & Corn maze.  This all inclusive day is sure to entertain everyone\, little or big.  Beyond the corn maze there are many ways to climb\, bounce\, slide or pedal kart your way to fun.  Try out the Zorbz\, axe throwing or blacklight mini golf.  Have a fun rivalry with archery tag or with the Blaster Balls.  Visit the 3 little pigs in their straw\, wood\, and brick houses and new for 2017 is a Kangaroo Petting Zoo with 6 Bennett’s Wallabies. \nSaturday\, September 23th\, 2017 (anytime between 11:00 – 5:00). \nLunch will be served between 12:00 – 1:00pm. \nYou will receive complimentary passes into the corn maze\, unlimited rides\, and a lunch combo courtesy of SAFA. \n**If you would like to attend this function\, please pick up the tickets in the SAFA office – N201 Senator Burns Building\, \nor contact Kathie Dann to make arrangements to have tickets mailed through interoffice mail. ** \nTickets are available during the hours below: \nMonday – Thursday 9:00 – 4:00 \nFriday 9:00 – 12:00 (noon)
URL:https://safacalgary.com/event/cobbs-adventure-park-corn-maze/
LOCATION:Cobb’s Adventure Park & Corn Maze\, 1500 84th Street N.E.\, Calgary\, Alberta\, T2A 7X4\, Canada
CATEGORIES:Social Events
END:VEVENT
BEGIN:VEVENT
DTSTART;TZID=America/Edmonton:20170525T160000
DTEND;TZID=America/Edmonton:20170525T190000
DTSTAMP:20260425T083513
CREATED:20161201T070018Z
LAST-MODIFIED:20200124T061722Z
UID:10000197-1495728000-1495738800@safacalgary.com
SUMMARY:SAFA/AUPE BBQ
DESCRIPTION:Due to the construction in the John Ware Building – this year’s BBQ will be held at the Gateway in the Campus Centre. \nTwo complimentary drink tickets will be provided for alcohol or juice. \nCash bar will be available at SAITSA prices. \nPlease note\, due to the change of venue (and cost difference) – the food choices will be scaled down this year. \nComplimentary taxi chits will be available. \nUnfortunately\, we will be unable to host the charity Raffle or 50/50 draw this BBQ.
URL:https://safacalgary.com/event/may-2017-bbq/
LOCATION:The Gateway\, 1301 16 Ave NW\, Calgary\, Alberta\, T2M 0L4\, Canada
CATEGORIES:Social Events
END:VEVENT
BEGIN:VEVENT
DTSTART;TZID=America/Edmonton:20170518T160000
DTEND;TZID=America/Edmonton:20170518T180000
DTSTAMP:20260425T083513
CREATED:20161126T055826Z
LAST-MODIFIED:20200120T111518Z
UID:10000196-1495123200-1495130400@safacalgary.com
SUMMARY:2017 Annual General Meeting
DESCRIPTION:All SAFA Members are encouraged to attend the Annual General Meeting. \nPlease note:  Sub-section 7.01 of the Constitution states that “15% of the membership constitutes quorum at all general meetings.  If quorum is not present\, then a date is selected within two weeks and the members there shall constitute a quorum”. \nTherefore\, take notice that if a quorum is not present at the AGM at 4:00 pm Thursday\, May 18\, 2017\, a second AGM is scheduled for 4:15 pm Thursday\, May 18\, 2017. \nThere will be a reception following the AGM for the Members who attend the AGM. You will be asked to present your AGM quorum count number in order to attend the reception.
URL:https://safacalgary.com/event/2017-agm/
LOCATION:Orpheus Theatre\, 1301 16 Ave NW\, Calgary\, Alberta\, T2M 0L4\, Canada
CATEGORIES:AGM,Business
END:VEVENT
END:VCALENDAR