BEGIN:VCALENDAR
VERSION:2.0
PRODID:-//SAIT Academic Faculty Association - ECPv6.15.20//NONSGML v1.0//EN
CALSCALE:GREGORIAN
METHOD:PUBLISH
X-WR-CALNAME:SAIT Academic Faculty Association
X-ORIGINAL-URL:https://safacalgary.com
X-WR-CALDESC:Events for SAIT Academic Faculty Association
REFRESH-INTERVAL;VALUE=DURATION:PT1H
X-Robots-Tag:noindex
X-PUBLISHED-TTL:PT1H
BEGIN:VTIMEZONE
TZID:America/Edmonton
BEGIN:DAYLIGHT
TZOFFSETFROM:-0700
TZOFFSETTO:-0600
TZNAME:MDT
DTSTART:20250309T090000
END:DAYLIGHT
BEGIN:STANDARD
TZOFFSETFROM:-0600
TZOFFSETTO:-0700
TZNAME:MST
DTSTART:20251102T080000
END:STANDARD
BEGIN:DAYLIGHT
TZOFFSETFROM:-0700
TZOFFSETTO:-0600
TZNAME:MDT
DTSTART:20260308T090000
END:DAYLIGHT
BEGIN:STANDARD
TZOFFSETFROM:-0600
TZOFFSETTO:-0700
TZNAME:MST
DTSTART:20261101T080000
END:STANDARD
BEGIN:DAYLIGHT
TZOFFSETFROM:-0700
TZOFFSETTO:-0600
TZNAME:MDT
DTSTART:20270314T090000
END:DAYLIGHT
BEGIN:STANDARD
TZOFFSETFROM:-0600
TZOFFSETTO:-0700
TZNAME:MST
DTSTART:20271107T080000
END:STANDARD
END:VTIMEZONE
BEGIN:VEVENT
DTSTART;TZID=America/Edmonton:20260506T100000
DTEND;TZID=America/Edmonton:20260506T160000
DTSTAMP:20260423T143143
CREATED:20251213T195656Z
LAST-MODIFIED:20251213T195658Z
UID:10000782-1778061600-1778083200@safacalgary.com
SUMMARY:SAFA Election-2nd Advanced Poll at the SAFA Office
DESCRIPTION:
URL:https://safacalgary.com/event/safa-election-2nd-advanced-poll-at-the-safa-office/
END:VEVENT
BEGIN:VEVENT
DTSTART;TZID=America/Edmonton:20260514T100000
DTEND;TZID=America/Edmonton:20260514T160000
DTSTAMP:20260423T143143
CREATED:20251213T195408Z
LAST-MODIFIED:20251213T195410Z
UID:10000780-1778752800-1778774400@safacalgary.com
SUMMARY:SAFA Electronic Election
DESCRIPTION:Please ensure that you are receiving emails from SAFA. The link to vote will arrive in your SAIT inbox from “safa@sait.ca via Survey Monkey”. Check your junk folders and email safa@sait.ca as soon as possible if you don’t have your email voting link.
URL:https://safacalgary.com/event/safa-electronic-election-2/
END:VEVENT
BEGIN:VEVENT
DTSTART;TZID=America/Edmonton:20260528T160000
DTEND;TZID=America/Edmonton:20260528T180000
DTSTAMP:20260423T143143
CREATED:20260401T003944Z
LAST-MODIFIED:20260401T004232Z
UID:10000787-1779984000-1779991200@safacalgary.com
SUMMARY:SAFA Annual General Meeting (AGM) - hybrid
DESCRIPTION:You can attend in person at Macdonald Hall/ Heritage Hall (limited seats\, please contact Kathie Dann to reserve a spot to attend in person – safa@sait.ca) \n\n\n\nAGM motion deadline will be April 30th\, 2026/ 4:00pm \n\n\n\nAll SAFA members are encouraged to attend.
URL:https://safacalgary.com/event/safa-annual-general-meeting-agm-hybrid/
END:VEVENT
END:VCALENDAR