BEGIN:VCALENDAR
VERSION:2.0
PRODID:-//SAIT Academic Faculty Association - ECPv6.15.20//NONSGML v1.0//EN
CALSCALE:GREGORIAN
METHOD:PUBLISH
X-ORIGINAL-URL:https://safacalgary.com
X-WR-CALDESC:Events for SAIT Academic Faculty Association
REFRESH-INTERVAL;VALUE=DURATION:PT1H
X-Robots-Tag:noindex
X-PUBLISHED-TTL:PT1H
BEGIN:VTIMEZONE
TZID:America/Edmonton
BEGIN:DAYLIGHT
TZOFFSETFROM:-0700
TZOFFSETTO:-0600
TZNAME:MDT
DTSTART:20230312T090000
END:DAYLIGHT
BEGIN:STANDARD
TZOFFSETFROM:-0600
TZOFFSETTO:-0700
TZNAME:MST
DTSTART:20231105T080000
END:STANDARD
BEGIN:DAYLIGHT
TZOFFSETFROM:-0700
TZOFFSETTO:-0600
TZNAME:MDT
DTSTART:20240310T090000
END:DAYLIGHT
BEGIN:STANDARD
TZOFFSETFROM:-0600
TZOFFSETTO:-0700
TZNAME:MST
DTSTART:20241103T080000
END:STANDARD
BEGIN:DAYLIGHT
TZOFFSETFROM:-0700
TZOFFSETTO:-0600
TZNAME:MDT
DTSTART:20250309T090000
END:DAYLIGHT
BEGIN:STANDARD
TZOFFSETFROM:-0600
TZOFFSETTO:-0700
TZNAME:MST
DTSTART:20251102T080000
END:STANDARD
BEGIN:DAYLIGHT
TZOFFSETFROM:-0700
TZOFFSETTO:-0600
TZNAME:MDT
DTSTART:20260308T090000
END:DAYLIGHT
BEGIN:STANDARD
TZOFFSETFROM:-0600
TZOFFSETTO:-0700
TZNAME:MST
DTSTART:20261101T080000
END:STANDARD
END:VTIMEZONE
BEGIN:VEVENT
DTSTART;TZID=America/Edmonton:20250521T160000
DTEND;TZID=America/Edmonton:20250521T200000
DTSTAMP:20260423T120023
CREATED:20250402T133544Z
LAST-MODIFIED:20250402T133545Z
UID:10000760-1747843200-1747857600@safacalgary.com
SUMMARY:SAFA Annual BBQ
DESCRIPTION:
URL:https://safacalgary.com/event/safa-annual-bbq/
END:VEVENT
BEGIN:VEVENT
DTSTART;TZID=America/Edmonton:20250511T000000
DTEND;TZID=America/Edmonton:20250513T235959
DTSTAMP:20260423T120023
CREATED:20250415T234319Z
LAST-MODIFIED:20250415T234517Z
UID:10000762-1746921600-1747180799@safacalgary.com
SUMMARY:ACIFA Conference
DESCRIPTION:For registration assistance contact ACIFA at admin@acifa.ca. \n\n\n\nFor more information\, please visit our page.
URL:https://safacalgary.com/event/acifa-conference/
END:VEVENT
BEGIN:VEVENT
DTSTART;TZID=America/Edmonton:20250412T180000
DTEND;TZID=America/Edmonton:20250412T230000
DTSTAMP:20260423T120023
CREATED:20250212T001323Z
LAST-MODIFIED:20250319T235508Z
UID:10000757-1744480800-1744498800@safacalgary.com
SUMMARY:SAFA Fun Money Casino Night
DESCRIPTION:Location: Irene Lewis Atrium\, Stan Grad Centre \n\n\n\nAll SAFA members are welcome to attend and bring guests (18 years of age or older).  The theme will be 80s Night\, and attendees who dress up can enter a raffle to win a prize. \n\n\n\nDate: April 12\, 6pm-11pm \n\n\n\nLocation: Enter at Macdonald Hall\, Heritage Hall\, Main SAIT Campus \n\n\n\nEach attendee receives: \n\n\n\n•    2 drink tickets (additional drinks $5/each at cash bar) \n\n\n\n•    complimentary taxi chit \n\n\n\n•    food throughout the night -pizza and appies (gluten free & vegetarian options available) \n\n\n\n•    Fun Money Casino entertainment \n\n\n\nThe deadline to order tickets is April 4th\, 2025.   Tickets are only $10 and can be purchased by contacting Kathie Dann (kathie.dann@sait.ca).
URL:https://safacalgary.com/event/safa-fun-money-casino-night/
END:VEVENT
BEGIN:VEVENT
DTSTART;TZID=America/Edmonton:20250325T163000
DTEND;TZID=America/Edmonton:20250325T210000
DTSTAMP:20260423T120023
CREATED:20250227T005831Z
LAST-MODIFIED:20250227T005853Z
UID:10000758-1742920200-1742936400@safacalgary.com
SUMMARY:SAFA Loco Lou’s Social Event
DESCRIPTION:SAFA would like to invite you to come and enjoy a drink and appetizers with your colleagues to bring in the New Year! \n\n\n\nWe are hosting the event across the street at Loco Lou’s (1324 16 Ave NW) on Tuesday\, January 28\, 2025 from 4:00 -7:30pm. \n\n\n\nYou will receive 2 complimentary drink tickets/ appetizers throughout the event and taxi chit vouchers are available to get home safely. \n\n\n\nWe hope to see you there!
URL:https://safacalgary.com/event/loco-lous-social-event/
END:VEVENT
BEGIN:VEVENT
DTSTART;TZID=America/Edmonton:20250128T160000
DTEND;TZID=America/Edmonton:20250128T193000
DTSTAMP:20260423T120023
CREATED:20250108T001130Z
LAST-MODIFIED:20250108T001130Z
UID:10000756-1738080000-1738092600@safacalgary.com
SUMMARY:SAFA Social
DESCRIPTION:SAFA would like to invite you to come and enjoy a drink and appetizers with your colleagues to bring in the New Year! \n\n\n\nWe are hosting the event across the street at Loco Lou’s (1324 16 Ave NW) on Tuesday\, January 28\, 2025 from 4:00 -7:30pm. \n\n\n\nYou will receive 2 complimentary drink tickets/ appetizers throughout the event and taxi chit vouchers are available to get home safely. \n\n\n\nWe hope to see you there!
URL:https://safacalgary.com/event/safa-social-2/
END:VEVENT
BEGIN:VEVENT
DTSTART;TZID=America/Edmonton:20241226T000000
DTEND;TZID=America/Edmonton:20241231T235959
DTSTAMP:20260423T120023
CREATED:20241022T235643Z
LAST-MODIFIED:20241023T000136Z
UID:10000752-1735171200-1735689599@safacalgary.com
SUMMARY:Christmas leave
DESCRIPTION:SECTION 38 \n\n\n\nCHRISTMAS LEAVE \n\n\n\n38.01 Academic staff members shall be granted the work days between Boxing Day andNew Year’s Day as Christmas Leave\, or\, if required to work on those days\, shall bepaid\, in addition to the member’s regular pay\, pay at straight time rates for allhours so worked. \n\n\n\n38.02 The Christmas float holiday\, pursuant to Section 38 of this collective agreementshall be observed:(a) on December 22nd when Christmas Day falls on a Monday;(b) on December 23rd when Christmas Day falls on a Sunday;(c) on December 24th when Christmas Day falls on any other day of the week.38.03 Annual vacation leave entitlement shall not be reduced by the taking of ChristmasLeave.
URL:https://safacalgary.com/event/christmas-leave/
END:VEVENT
BEGIN:VEVENT
DTSTART;TZID=America/Edmonton:20241224T000000
DTEND;TZID=America/Edmonton:20241224T235959
DTSTAMP:20260423T120023
CREATED:20241022T235450Z
LAST-MODIFIED:20241023T000225Z
UID:10000751-1734998400-1735084799@safacalgary.com
SUMMARY:Christmas Float Holiday
DESCRIPTION:SECTION 38 \n\n\n\nCHRISTMAS LEAVE \n\n\n\n38.02 The Christmas float holiday\, pursuant to Section 38 of this collective agreementshall be observed:(a) on December 22nd when Christmas Day falls on a Monday;(b) on December 23rd when Christmas Day falls on a Sunday;(c) on December 24th when Christmas Day falls on any other day of the week. \n\n\n\n38.03 Annual vacation leave entitlement shall not be reduced by the taking of ChristmasLeave.
URL:https://safacalgary.com/event/christmas-float-holiday/
END:VEVENT
BEGIN:VEVENT
DTSTART;TZID=America/Edmonton:20241125T160000
DTEND;TZID=America/Edmonton:20241125T193000
DTSTAMP:20260423T120023
CREATED:20241029T231327Z
LAST-MODIFIED:20241029T231328Z
UID:10000755-1732550400-1732563000@safacalgary.com
SUMMARY:SAFA Christmas Party
DESCRIPTION:
URL:https://safacalgary.com/event/safa-christmas-party/
END:VEVENT
BEGIN:VEVENT
DTSTART;TZID=America/Edmonton:20241104T163000
DTEND;TZID=America/Edmonton:20241104T193000
DTSTAMP:20260423T120023
CREATED:20241029T221500Z
LAST-MODIFIED:20241029T200200Z
UID:10000754-1730737800-1730748600@safacalgary.com
SUMMARY:SAFA SOCIAL – Show Your Colours
DESCRIPTION:Loco Lou’s\, 1324 16th Ave NW\, Calgary \n\n\n\nThis member-only event will include free food and 2 drink tickets per attendee.  Cash bar and complimentary taxi chits will be available at the event.
URL:https://safacalgary.com/event/safa-social-show-your-colours/
END:VEVENT
BEGIN:VEVENT
DTSTART;TZID=America/Edmonton:20241104T000000
DTEND;TZID=America/Edmonton:20241104T235959
DTSTAMP:20260423T120023
CREATED:20241023T000420Z
LAST-MODIFIED:20241029T200207Z
UID:10000753-1730678400-1730764799@safacalgary.com
SUMMARY:Deadline for SAFA Dependent Scholarship
DESCRIPTION:Please have all applications sent to SAFA via email at either : kathie.dann@sait.ca or safa@sait.ca
URL:https://safacalgary.com/event/deadline-for-safa-dependent-scholarship-2/
END:VEVENT
BEGIN:VEVENT
DTSTART;TZID=America/Edmonton:20240921T110000
DTEND;TZID=America/Edmonton:20240921T170000
DTSTAMP:20260423T120023
CREATED:20240905T002033Z
LAST-MODIFIED:20241029T200213Z
UID:10000484-1726916400-1726938000@safacalgary.com
SUMMARY:Family Fun at Cobbs Farm
DESCRIPTION:All SAFA members and their families are invited to a day out at Cobbs Adventure Park!  It’s a great time for kids and adults\, with complimentary passes into the corn maze\, axe throwing\, free rides\, plenty of games\, and lunch courtesy of SAFA. \n\n\n\nTime: 11am – 5pm\, with lunch served from 12pm – 2pm \n\n\n\nLocation: Cobbs Adventure Park\, 1500 84th Street NE\, Calgary \n\n\n\n If you would like to attend\, please email kathie.dann@sait.ca for information and tickets.
URL:https://safacalgary.com/event/family-fun-at-cobbs-farm/
END:VEVENT
BEGIN:VEVENT
DTSTART;TZID=America/Edmonton:20240619T130000
DTEND;TZID=America/Edmonton:20240619T160000
DTSTAMP:20260423T120023
CREATED:20230917T200018Z
LAST-MODIFIED:20240606T034834Z
UID:10000340-1718802000-1718812800@safacalgary.com
SUMMARY:SAFA Table of Officers meeting
DESCRIPTION:Table of Officers meetings are open to all SAFA members of good standing. Please contact Kathie Dann at the SAFA office for more information.
URL:https://safacalgary.com/event/safa-table-of-officers-meeting-38/
END:VEVENT
BEGIN:VEVENT
DTSTART;TZID=America/Edmonton:20240612T130000
DTEND;TZID=America/Edmonton:20240612T160000
DTSTAMP:20260423T120023
CREATED:20230917T195942Z
LAST-MODIFIED:20240606T034837Z
UID:10000339-1718197200-1718208000@safacalgary.com
SUMMARY:SAFA Table of Officers meeting
DESCRIPTION:Table of Officers meetings are open to all SAFA members of good standing. Please contact Kathie Dann at the SAFA office for more information.
URL:https://safacalgary.com/event/safa-table-of-officers-meeting-37/
END:VEVENT
BEGIN:VEVENT
DTSTART;TZID=America/Edmonton:20240605T130000
DTEND;TZID=America/Edmonton:20240605T160000
DTSTAMP:20260423T120023
CREATED:20230917T195913Z
LAST-MODIFIED:20230917T201157Z
UID:10000338-1717592400-1717603200@safacalgary.com
SUMMARY:SAFA Table of Officers meeting
DESCRIPTION:
URL:https://safacalgary.com/event/safa-table-of-officers-meeting-36/
END:VEVENT
BEGIN:VEVENT
DTSTART;TZID=America/Edmonton:20240604T160000
DTEND;TZID=America/Edmonton:20240604T193000
DTSTAMP:20260423T120023
CREATED:20240602T165900Z
LAST-MODIFIED:20240603T170323Z
UID:10000364-1717516800-1717529400@safacalgary.com
SUMMARY:SAFA/AUPE BBQ
DESCRIPTION:This is a complementary function open to all SAFA/AUPE Members. You will receive 2 free drink tickets (cash bar to follow)\, and a complementary taxi chit.
URL:https://safacalgary.com/event/safa-aupe-bbq/
END:VEVENT
BEGIN:VEVENT
DTSTART;TZID=America/Edmonton:20240604T160000
DTEND;TZID=America/Edmonton:20240604T170000
DTSTAMP:20260423T120023
CREATED:20230917T201043Z
LAST-MODIFIED:20230917T201205Z
UID:10000349-1717516800-1717520400@safacalgary.com
SUMMARY:SAFA Executive Council meeting
DESCRIPTION:
URL:https://safacalgary.com/event/safa-executive-council-meeting-9/
END:VEVENT
BEGIN:VEVENT
DTSTART;TZID=America/Edmonton:20240529T160000
DTEND;TZID=America/Edmonton:20240529T190000
DTSTAMP:20260423T120023
CREATED:20240418T011613Z
LAST-MODIFIED:20240418T011614Z
UID:10000362-1716998400-1717009200@safacalgary.com
SUMMARY:SAFA Annual General Meeting (AGM)
DESCRIPTION:
URL:https://safacalgary.com/event/safa-annual-general-meeting-agm-2/
END:VEVENT
BEGIN:VEVENT
DTSTART;TZID=America/Edmonton:20240529T130000
DTEND;TZID=America/Edmonton:20240529T160000
DTSTAMP:20260423T120023
CREATED:20230917T195839Z
LAST-MODIFIED:20230917T201211Z
UID:10000337-1716987600-1716998400@safacalgary.com
SUMMARY:SAFA Table of Officers meeting
DESCRIPTION:
URL:https://safacalgary.com/event/safa-table-of-officers-meeting-35/
END:VEVENT
BEGIN:VEVENT
DTSTART;TZID=America/Edmonton:20240522T130000
DTEND;TZID=America/Edmonton:20240522T160000
DTSTAMP:20260423T120023
CREATED:20230917T195809Z
LAST-MODIFIED:20230917T201217Z
UID:10000336-1716382800-1716393600@safacalgary.com
SUMMARY:SAFA Table of Officers meeting
DESCRIPTION:
URL:https://safacalgary.com/event/safa-table-of-officers-meeting-34/
END:VEVENT
BEGIN:VEVENT
DTSTART;TZID=America/Edmonton:20240515T130000
DTEND;TZID=America/Edmonton:20240515T160000
DTSTAMP:20260423T120023
CREATED:20230917T195720Z
LAST-MODIFIED:20230917T201224Z
UID:10000335-1715778000-1715788800@safacalgary.com
SUMMARY:SAFA Table of Officers meeting
DESCRIPTION:
URL:https://safacalgary.com/event/safa-table-of-officers-meeting-33/
END:VEVENT
BEGIN:VEVENT
DTSTART;TZID=America/Edmonton:20240508T160000
DTEND;TZID=America/Edmonton:20240508T160000
DTSTAMP:20260423T120023
CREATED:20240418T011713Z
LAST-MODIFIED:20240418T011714Z
UID:10000363-1715184000-1715184000@safacalgary.com
SUMMARY:AGM motion deadline
DESCRIPTION:
URL:https://safacalgary.com/event/agm-motion-deadline/
END:VEVENT
BEGIN:VEVENT
DTSTART;TZID=America/Edmonton:20240508T130000
DTEND;TZID=America/Edmonton:20240508T160000
DTSTAMP:20260423T120023
CREATED:20230917T195549Z
LAST-MODIFIED:20230917T201230Z
UID:10000334-1715173200-1715184000@safacalgary.com
SUMMARY:SAFA Table of Officers meeting
DESCRIPTION:
URL:https://safacalgary.com/event/safa-table-of-officers-meeting-32/
END:VEVENT
BEGIN:VEVENT
DTSTART;TZID=America/Edmonton:20240507T160000
DTEND;TZID=America/Edmonton:20240507T170000
DTSTAMP:20260423T120023
CREATED:20230917T201000Z
LAST-MODIFIED:20230917T201236Z
UID:10000348-1715097600-1715101200@safacalgary.com
SUMMARY:SAFA Executive Council meeting
DESCRIPTION:
URL:https://safacalgary.com/event/safa-executive-council-meeting-8/
END:VEVENT
BEGIN:VEVENT
DTSTART;TZID=America/Edmonton:20240502T000000
DTEND;TZID=America/Edmonton:20240502T235959
DTSTAMP:20260423T120023
CREATED:20240312T234744Z
LAST-MODIFIED:20240312T234941Z
UID:10000361-1714608000-1714694399@safacalgary.com
SUMMARY:SAFA Election (online)
DESCRIPTION:
URL:https://safacalgary.com/event/safa-election-online/
END:VEVENT
BEGIN:VEVENT
DTSTART;TZID=America/Edmonton:20240501T130000
DTEND;TZID=America/Edmonton:20240501T160000
DTSTAMP:20260423T120023
CREATED:20230917T195517Z
LAST-MODIFIED:20230917T201242Z
UID:10000333-1714568400-1714579200@safacalgary.com
SUMMARY:SAFA Table of Officers meeting
DESCRIPTION:
URL:https://safacalgary.com/event/safa-table-of-officers-meeting-31/
END:VEVENT
BEGIN:VEVENT
DTSTART;TZID=America/Edmonton:20240424T130000
DTEND;TZID=America/Edmonton:20240424T160000
DTSTAMP:20260423T120023
CREATED:20230917T195241Z
LAST-MODIFIED:20230917T201248Z
UID:10000332-1713963600-1713974400@safacalgary.com
SUMMARY:SAFA Table of Officers meeting
DESCRIPTION:
URL:https://safacalgary.com/event/safa-table-of-officers-meeting-30/
END:VEVENT
BEGIN:VEVENT
DTSTART;TZID=America/Edmonton:20240420T180000
DTEND;TZID=America/Edmonton:20240420T230000
DTSTAMP:20260423T120023
CREATED:20240215T015317Z
LAST-MODIFIED:20240215T015319Z
UID:10000358-1713636000-1713654000@safacalgary.com
SUMMARY:SAFA Fun Money Casino
DESCRIPTION:Save the Date: Fun Money Casino Event \n\n\n\nPull out your bell-bottoms and disco balls – we’re taking trip back in time! \n\n\n\nThat’s right\, the SAFA Fun Money Casino is back\, ‘70s style!  \n\n\n\nDate: Saturday\, April 20\, 2024 \n\n\n\nTime: 6:00pm – 11:00pm (Fun Money will run 7-10pm) \n\n\n\nLocation: Irene Lewis Atrium/ Stan Grad Building \n\n\n\n– All SAFA members are invited to attend and bring guests (18 years or older). \n\n\n\n– Tickets are $10.00 and include appetizers and 2 drink tickets. Stop by the SAFA office (NN201/Senator Burns) or call 403.284.8321 to purchase. \n\n\n\n– Cash bar ($5/drink) and complimentary taxi chits will also be available at the event.
URL:https://safacalgary.com/event/safa-fun-money-casino/
END:VEVENT
BEGIN:VEVENT
DTSTART;TZID=America/Edmonton:20240417T130000
DTEND;TZID=America/Edmonton:20240417T160000
DTSTAMP:20260423T120023
CREATED:20230917T195211Z
LAST-MODIFIED:20230917T201253Z
UID:10000331-1713358800-1713369600@safacalgary.com
SUMMARY:SAFA Table of Officers meeting
DESCRIPTION:
URL:https://safacalgary.com/event/safa-table-of-officers-meeting-29/
END:VEVENT
BEGIN:VEVENT
DTSTART;TZID=America/Edmonton:20240410T130000
DTEND;TZID=America/Edmonton:20240410T160000
DTSTAMP:20260423T120023
CREATED:20230917T195140Z
LAST-MODIFIED:20230917T201259Z
UID:10000330-1712754000-1712764800@safacalgary.com
SUMMARY:SAFA Table of Officers meeting
DESCRIPTION:
URL:https://safacalgary.com/event/safa-table-of-officers-meeting-28/
END:VEVENT
BEGIN:VEVENT
DTSTART;TZID=America/Edmonton:20240404T160000
DTEND;TZID=America/Edmonton:20240404T160000
DTSTAMP:20260423T120023
CREATED:20240307T011041Z
LAST-MODIFIED:20240307T011041Z
UID:10000359-1712246400-1712246400@safacalgary.com
SUMMARY:SAFA election nominations close
DESCRIPTION:
URL:https://safacalgary.com/event/safa-election-nominations-close/
END:VEVENT
END:VCALENDAR