BEGIN:VCALENDAR
VERSION:2.0
PRODID:-//SAIT Academic Faculty Association - ECPv6.15.20//NONSGML v1.0//EN
CALSCALE:GREGORIAN
METHOD:PUBLISH
X-WR-CALNAME:SAIT Academic Faculty Association
X-ORIGINAL-URL:https://safacalgary.com
X-WR-CALDESC:Events for SAIT Academic Faculty Association
REFRESH-INTERVAL;VALUE=DURATION:PT1H
X-Robots-Tag:noindex
X-PUBLISHED-TTL:PT1H
BEGIN:VTIMEZONE
TZID:America/Edmonton
BEGIN:DAYLIGHT
TZOFFSETFROM:-0700
TZOFFSETTO:-0600
TZNAME:MDT
DTSTART:20220313T090000
END:DAYLIGHT
BEGIN:STANDARD
TZOFFSETFROM:-0600
TZOFFSETTO:-0700
TZNAME:MST
DTSTART:20221106T080000
END:STANDARD
BEGIN:DAYLIGHT
TZOFFSETFROM:-0700
TZOFFSETTO:-0600
TZNAME:MDT
DTSTART:20230312T090000
END:DAYLIGHT
BEGIN:STANDARD
TZOFFSETFROM:-0600
TZOFFSETTO:-0700
TZNAME:MST
DTSTART:20231105T080000
END:STANDARD
BEGIN:DAYLIGHT
TZOFFSETFROM:-0700
TZOFFSETTO:-0600
TZNAME:MDT
DTSTART:20240310T090000
END:DAYLIGHT
BEGIN:STANDARD
TZOFFSETFROM:-0600
TZOFFSETTO:-0700
TZNAME:MST
DTSTART:20241103T080000
END:STANDARD
BEGIN:DAYLIGHT
TZOFFSETFROM:-0700
TZOFFSETTO:-0600
TZNAME:MDT
DTSTART:20250309T090000
END:DAYLIGHT
BEGIN:STANDARD
TZOFFSETFROM:-0600
TZOFFSETTO:-0700
TZNAME:MST
DTSTART:20251102T080000
END:STANDARD
END:VTIMEZONE
BEGIN:VEVENT
DTSTART;TZID=America/Edmonton:20240221T130000
DTEND;TZID=America/Edmonton:20240221T160000
DTSTAMP:20260423T213132
CREATED:20230917T194524Z
LAST-MODIFIED:20230917T201617Z
UID:10000323-1708520400-1708531200@safacalgary.com
SUMMARY:SAFA Table of Officers meeting
DESCRIPTION:
URL:https://safacalgary.com/event/safa-table-of-officers-meeting-21/
END:VEVENT
BEGIN:VEVENT
DTSTART;TZID=America/Edmonton:20240214T130000
DTEND;TZID=America/Edmonton:20240214T160000
DTSTAMP:20260423T213132
CREATED:20230917T194351Z
LAST-MODIFIED:20230917T201625Z
UID:10000321-1707915600-1707926400@safacalgary.com
SUMMARY:SAFA Table of Officers meeting
DESCRIPTION:
URL:https://safacalgary.com/event/safa-table-of-officers-meeting-20/
END:VEVENT
BEGIN:VEVENT
DTSTART;TZID=America/Edmonton:20240207T130000
DTEND;TZID=America/Edmonton:20240207T160000
DTSTAMP:20260423T213132
CREATED:20230917T194318Z
LAST-MODIFIED:20230917T201632Z
UID:10000322-1707310800-1707321600@safacalgary.com
SUMMARY:SAFA Table of Officers meeting
DESCRIPTION:
URL:https://safacalgary.com/event/safa-table-of-officers-meeting-19/
END:VEVENT
BEGIN:VEVENT
DTSTART;TZID=America/Edmonton:20240206T160000
DTEND;TZID=America/Edmonton:20240206T170000
DTSTAMP:20260423T213132
CREATED:20230917T200706Z
LAST-MODIFIED:20230917T201638Z
UID:10000345-1707235200-1707238800@safacalgary.com
SUMMARY:SAFA Executive Council meeting
DESCRIPTION:
URL:https://safacalgary.com/event/safa-executive-council-meeting-5/
END:VEVENT
BEGIN:VEVENT
DTSTART;TZID=America/Edmonton:20240131T130000
DTEND;TZID=America/Edmonton:20240131T160000
DTSTAMP:20260423T213132
CREATED:20230917T194228Z
LAST-MODIFIED:20230917T201644Z
UID:10000319-1706706000-1706716800@safacalgary.com
SUMMARY:SAFA Table of Officers meeting
DESCRIPTION:
URL:https://safacalgary.com/event/safa-table-of-officers-meeting-18/
END:VEVENT
BEGIN:VEVENT
DTSTART;TZID=America/Edmonton:20240124T130000
DTEND;TZID=America/Edmonton:20240124T160000
DTSTAMP:20260423T213132
CREATED:20230917T194156Z
LAST-MODIFIED:20230917T201651Z
UID:10000320-1706101200-1706112000@safacalgary.com
SUMMARY:SAFA Table of Officers meeting
DESCRIPTION:
URL:https://safacalgary.com/event/safa-table-of-officers-meeting-17/
END:VEVENT
BEGIN:VEVENT
DTSTART;TZID=America/Edmonton:20240117T130000
DTEND;TZID=America/Edmonton:20240117T160000
DTSTAMP:20260423T213132
CREATED:20230917T193718Z
LAST-MODIFIED:20230917T201657Z
UID:10000318-1705496400-1705507200@safacalgary.com
SUMMARY:SAFA Table of Officers meeting
DESCRIPTION:
URL:https://safacalgary.com/event/safa-table-of-officers-meeting-16/
END:VEVENT
BEGIN:VEVENT
DTSTART;TZID=America/Edmonton:20240110T130000
DTEND;TZID=America/Edmonton:20240110T160000
DTSTAMP:20260423T213132
CREATED:20230917T193650Z
LAST-MODIFIED:20230917T201703Z
UID:10000317-1704891600-1704902400@safacalgary.com
SUMMARY:SAFA Table of Officers meeting
DESCRIPTION:
URL:https://safacalgary.com/event/safa-table-of-officers-meeting-15/
END:VEVENT
BEGIN:VEVENT
DTSTART;TZID=America/Edmonton:20240102T160000
DTEND;TZID=America/Edmonton:20240102T170000
DTSTAMP:20260423T213132
CREATED:20230917T200459Z
LAST-MODIFIED:20230917T201708Z
UID:10000344-1704211200-1704214800@safacalgary.com
SUMMARY:SAFA Executive Council meeting
DESCRIPTION:
URL:https://safacalgary.com/event/safa-executive-council-meeting-4/
END:VEVENT
BEGIN:VEVENT
DTSTART;TZID=America/Edmonton:20231226T080000
DTEND;TZID=America/Edmonton:20240101T170000
DTSTAMP:20260423T213132
CREATED:20230917T203624Z
LAST-MODIFIED:20230917T203644Z
UID:10000352-1703577600-1704128400@safacalgary.com
SUMMARY:SAFA Christmas Leave
DESCRIPTION:
URL:https://safacalgary.com/event/safa-christmas-leave-2/
END:VEVENT
BEGIN:VEVENT
DTSTART;TZID=America/Edmonton:20231225T000000
DTEND;TZID=America/Edmonton:20231225T235959
DTSTAMP:20260423T213132
CREATED:20230917T203526Z
LAST-MODIFIED:20230917T203650Z
UID:10000351-1703462400-1703548799@safacalgary.com
SUMMARY:Christmas Day
DESCRIPTION:
URL:https://safacalgary.com/event/christmas-day/
END:VEVENT
BEGIN:VEVENT
DTSTART;TZID=America/Edmonton:20231222T000000
DTEND;TZID=America/Edmonton:20231222T235959
DTSTAMP:20260423T213132
CREATED:20230917T203331Z
LAST-MODIFIED:20231125T214553Z
UID:10000350-1703203200-1703289599@safacalgary.com
SUMMARY:SAFA Floater Day
DESCRIPTION:38.02 The Christmas float holiday\, pursuant to Section 38 of this collective agreement shall be observed:(a) on December 22nd when Christmas Day falls on a Monday
URL:https://safacalgary.com/event/safa-floater-day-3/
END:VEVENT
BEGIN:VEVENT
DTSTART;TZID=America/Edmonton:20231220T140000
DTEND;TZID=America/Edmonton:20231220T170000
DTSTAMP:20260423T213132
CREATED:20230917T193615Z
LAST-MODIFIED:20230917T201714Z
UID:10000316-1703080800-1703091600@safacalgary.com
SUMMARY:SAFA Table of Officers meeting
DESCRIPTION:
URL:https://safacalgary.com/event/safa-table-of-officers-meeting-14/
END:VEVENT
BEGIN:VEVENT
DTSTART;TZID=America/Edmonton:20231218T160000
DTEND;TZID=America/Edmonton:20231218T193000
DTSTAMP:20260423T213132
CREATED:20231125T211722Z
LAST-MODIFIED:20231125T214328Z
UID:10000353-1702915200-1702927800@safacalgary.com
SUMMARY:SAFA/AUPE Christmas Party
DESCRIPTION:MacDonald Hall (1st Floor of the Heritage Hall building) \n\n\n\nThis is an event for SAFA members only – all adjunct\, casual\, temporary salaried\, and permanent salaried members are welcome!  Attendees will receive 2 complimentary drink tickets; other drinks will be available at the cash bar.  Free taxi chits will also be available for that day.
URL:https://safacalgary.com/event/safa-aupe-christmas-party-dec-18th-4pm-730pm-macdonald-hall/
LOCATION:MacDonald Hall
END:VEVENT
BEGIN:VEVENT
DTSTART;TZID=America/Edmonton:20231213T140000
DTEND;TZID=America/Edmonton:20231213T170000
DTSTAMP:20260423T213132
CREATED:20230917T193532Z
LAST-MODIFIED:20230917T201719Z
UID:10000315-1702476000-1702486800@safacalgary.com
SUMMARY:SAFA Table of Officers meeting
DESCRIPTION:
URL:https://safacalgary.com/event/safa-table-of-officers-meeting-13/
END:VEVENT
BEGIN:VEVENT
DTSTART;TZID=America/Edmonton:20231206T140000
DTEND;TZID=America/Edmonton:20231206T170000
DTSTAMP:20260423T213132
CREATED:20230917T193508Z
LAST-MODIFIED:20230917T201724Z
UID:10000314-1701871200-1701882000@safacalgary.com
SUMMARY:SAFA Table of Officers meeting
DESCRIPTION:
URL:https://safacalgary.com/event/safa-table-of-officers-meeting-12/
END:VEVENT
BEGIN:VEVENT
DTSTART;TZID=America/Edmonton:20231205T160000
DTEND;TZID=America/Edmonton:20231205T170000
DTSTAMP:20260423T213132
CREATED:20230917T200426Z
LAST-MODIFIED:20230917T201731Z
UID:10000343-1701792000-1701795600@safacalgary.com
SUMMARY:SAFA Executive Council meeting
DESCRIPTION:
URL:https://safacalgary.com/event/safa-executive-council-meeting-3/
END:VEVENT
BEGIN:VEVENT
DTSTART;TZID=America/Edmonton:20231129T140000
DTEND;TZID=America/Edmonton:20231129T170000
DTSTAMP:20260423T213132
CREATED:20230917T193443Z
LAST-MODIFIED:20230917T201737Z
UID:10000313-1701266400-1701277200@safacalgary.com
SUMMARY:SAFA Table of Officers meeting
DESCRIPTION:
URL:https://safacalgary.com/event/safa-table-of-officers-meeting-11/
END:VEVENT
BEGIN:VEVENT
DTSTART;TZID=America/Edmonton:20231122T140000
DTEND;TZID=America/Edmonton:20231122T170000
DTSTAMP:20260423T213132
CREATED:20230917T193417Z
LAST-MODIFIED:20230917T201743Z
UID:10000312-1700661600-1700672400@safacalgary.com
SUMMARY:SAFA Table of Officers meeting
DESCRIPTION:
URL:https://safacalgary.com/event/safa-table-of-officers-meeting-10/
END:VEVENT
BEGIN:VEVENT
DTSTART;TZID=America/Edmonton:20231115T140000
DTEND;TZID=America/Edmonton:20231115T170000
DTSTAMP:20260423T213132
CREATED:20230917T193327Z
LAST-MODIFIED:20230917T201759Z
UID:10000311-1700056800-1700067600@safacalgary.com
SUMMARY:SAFA Table of Officers meeting
DESCRIPTION:
URL:https://safacalgary.com/event/safa-table-of-officers-meeting-9/
END:VEVENT
BEGIN:VEVENT
DTSTART;TZID=America/Edmonton:20231108T140000
DTEND;TZID=America/Edmonton:20231108T170000
DTSTAMP:20260423T213132
CREATED:20230917T193300Z
LAST-MODIFIED:20230917T201805Z
UID:10000310-1699452000-1699462800@safacalgary.com
SUMMARY:SAFA Table of Officers meeting
DESCRIPTION:
URL:https://safacalgary.com/event/safa-table-of-officers-meeting-8/
END:VEVENT
BEGIN:VEVENT
DTSTART;TZID=America/Edmonton:20231107T160000
DTEND;TZID=America/Edmonton:20231107T170000
DTSTAMP:20260423T213132
CREATED:20230917T200347Z
LAST-MODIFIED:20230917T201811Z
UID:10000342-1699372800-1699376400@safacalgary.com
SUMMARY:SAFA Executive Council meeting
DESCRIPTION:
URL:https://safacalgary.com/event/safa-executive-council-meeting-2/
END:VEVENT
BEGIN:VEVENT
DTSTART;TZID=America/Edmonton:20231101T140000
DTEND;TZID=America/Edmonton:20231101T170000
DTSTAMP:20260423T213132
CREATED:20230917T193230Z
LAST-MODIFIED:20230917T201824Z
UID:10000309-1698847200-1698858000@safacalgary.com
SUMMARY:SAFA Table of Officers meeting
DESCRIPTION:
URL:https://safacalgary.com/event/safa-table-of-officers-meeting-7/
END:VEVENT
BEGIN:VEVENT
DTSTART;TZID=America/Edmonton:20231025T140000
DTEND;TZID=America/Edmonton:20231025T170000
DTSTAMP:20260423T213132
CREATED:20230917T193147Z
LAST-MODIFIED:20230917T201832Z
UID:10000308-1698242400-1698253200@safacalgary.com
SUMMARY:SAFA Table of Officers meeting
DESCRIPTION:
URL:https://safacalgary.com/event/safa-table-of-officers-meeting-6/
END:VEVENT
BEGIN:VEVENT
DTSTART;TZID=America/Edmonton:20231018T140000
DTEND;TZID=America/Edmonton:20231018T170000
DTSTAMP:20260423T213132
CREATED:20230917T193117Z
LAST-MODIFIED:20230917T201850Z
UID:10000307-1697637600-1697648400@safacalgary.com
SUMMARY:SAFA Table of Officers meeting
DESCRIPTION:
URL:https://safacalgary.com/event/safa-table-of-officers-meeting-5/
END:VEVENT
BEGIN:VEVENT
DTSTART;TZID=America/Edmonton:20231011T140000
DTEND;TZID=America/Edmonton:20231011T170000
DTSTAMP:20260423T213132
CREATED:20230917T193050Z
LAST-MODIFIED:20230917T201856Z
UID:10000254-1697032800-1697043600@safacalgary.com
SUMMARY:SAFA Table of Officers meeting
DESCRIPTION:
URL:https://safacalgary.com/event/safa-table-of-officers-meeting-4/
END:VEVENT
BEGIN:VEVENT
DTSTART;TZID=America/Edmonton:20231004T140000
DTEND;TZID=America/Edmonton:20231004T170000
DTSTAMP:20260423T213132
CREATED:20230917T193008Z
LAST-MODIFIED:20230917T201902Z
UID:10000252-1696428000-1696438800@safacalgary.com
SUMMARY:SAFA Table of Officers meeting
DESCRIPTION:
URL:https://safacalgary.com/event/safa-table-of-officers-meeting-3/
END:VEVENT
BEGIN:VEVENT
DTSTART;TZID=America/Edmonton:20231003T160000
DTEND;TZID=America/Edmonton:20231003T173000
DTSTAMP:20260423T213132
CREATED:20230917T200225Z
LAST-MODIFIED:20230917T201907Z
UID:10000341-1696348800-1696354200@safacalgary.com
SUMMARY:SAFA Executive Council meeting
DESCRIPTION:
URL:https://safacalgary.com/event/safa-executive-council-meeting/
END:VEVENT
BEGIN:VEVENT
DTSTART;TZID=America/Edmonton:20230927T140000
DTEND;TZID=America/Edmonton:20230927T170000
DTSTAMP:20260423T213132
CREATED:20230917T192835Z
LAST-MODIFIED:20230917T192836Z
UID:10000250-1695823200-1695834000@safacalgary.com
SUMMARY:SAFA Table of Officers meeting
DESCRIPTION:
URL:https://safacalgary.com/event/safa-table-of-officers-meeting-2/
END:VEVENT
BEGIN:VEVENT
DTSTART;TZID=America/Edmonton:20230923T110000
DTEND;TZID=America/Edmonton:20230923T170000
DTSTAMP:20260423T213132
CREATED:20230917T192003Z
LAST-MODIFIED:20230917T201913Z
UID:10000246-1695466800-1695488400@safacalgary.com
SUMMARY:Cobbs Adventure Family Day
DESCRIPTION:You will receive complimentary passes into the corn maze\, plus free rides (including Axe throwing)\, and lunch courtesy of SAFA. \n\n\n\nIf you would like to attend this function\, please email kathie.dann@sait.ca. \n\n\n\nPlease note – paper tickets will not be handed out this year\, everything will be done electronically. ** \n\n\n\nHere is the website for Cobbs Adventure Park. \n\n\n\nCobb’s Adventure Park (cobbsadventurepark.com)
URL:https://safacalgary.com/event/cobbs-adventure-family-day/
END:VEVENT
END:VCALENDAR