BEGIN:VCALENDAR
VERSION:2.0
PRODID:-//SAIT Academic Faculty Association - ECPv6.15.20//NONSGML v1.0//EN
CALSCALE:GREGORIAN
METHOD:PUBLISH
X-ORIGINAL-URL:https://safacalgary.com
X-WR-CALDESC:Events for SAIT Academic Faculty Association
REFRESH-INTERVAL;VALUE=DURATION:PT1H
X-Robots-Tag:noindex
X-PUBLISHED-TTL:PT1H
BEGIN:VTIMEZONE
TZID:America/Edmonton
BEGIN:DAYLIGHT
TZOFFSETFROM:-0700
TZOFFSETTO:-0600
TZNAME:MDT
DTSTART:20210314T090000
END:DAYLIGHT
BEGIN:STANDARD
TZOFFSETFROM:-0600
TZOFFSETTO:-0700
TZNAME:MST
DTSTART:20211107T080000
END:STANDARD
BEGIN:DAYLIGHT
TZOFFSETFROM:-0700
TZOFFSETTO:-0600
TZNAME:MDT
DTSTART:20220313T090000
END:DAYLIGHT
BEGIN:STANDARD
TZOFFSETFROM:-0600
TZOFFSETTO:-0700
TZNAME:MST
DTSTART:20221106T080000
END:STANDARD
BEGIN:DAYLIGHT
TZOFFSETFROM:-0700
TZOFFSETTO:-0600
TZNAME:MDT
DTSTART:20230312T090000
END:DAYLIGHT
BEGIN:STANDARD
TZOFFSETFROM:-0600
TZOFFSETTO:-0700
TZNAME:MST
DTSTART:20231105T080000
END:STANDARD
BEGIN:DAYLIGHT
TZOFFSETFROM:-0700
TZOFFSETTO:-0600
TZNAME:MDT
DTSTART:20240310T090000
END:DAYLIGHT
BEGIN:STANDARD
TZOFFSETFROM:-0600
TZOFFSETTO:-0700
TZNAME:MST
DTSTART:20241103T080000
END:STANDARD
END:VTIMEZONE
BEGIN:VEVENT
DTSTART;TZID=America/Edmonton:20231205T160000
DTEND;TZID=America/Edmonton:20231205T170000
DTSTAMP:20260423T200036
CREATED:20230917T200426Z
LAST-MODIFIED:20230917T201731Z
UID:10000343-1701792000-1701795600@safacalgary.com
SUMMARY:SAFA Executive Council meeting
DESCRIPTION:
URL:https://safacalgary.com/event/safa-executive-council-meeting-3/
END:VEVENT
BEGIN:VEVENT
DTSTART;TZID=America/Edmonton:20231129T140000
DTEND;TZID=America/Edmonton:20231129T170000
DTSTAMP:20260423T200036
CREATED:20230917T193443Z
LAST-MODIFIED:20230917T201737Z
UID:10000313-1701266400-1701277200@safacalgary.com
SUMMARY:SAFA Table of Officers meeting
DESCRIPTION:
URL:https://safacalgary.com/event/safa-table-of-officers-meeting-11/
END:VEVENT
BEGIN:VEVENT
DTSTART;TZID=America/Edmonton:20231122T140000
DTEND;TZID=America/Edmonton:20231122T170000
DTSTAMP:20260423T200036
CREATED:20230917T193417Z
LAST-MODIFIED:20230917T201743Z
UID:10000312-1700661600-1700672400@safacalgary.com
SUMMARY:SAFA Table of Officers meeting
DESCRIPTION:
URL:https://safacalgary.com/event/safa-table-of-officers-meeting-10/
END:VEVENT
BEGIN:VEVENT
DTSTART;TZID=America/Edmonton:20231115T140000
DTEND;TZID=America/Edmonton:20231115T170000
DTSTAMP:20260423T200036
CREATED:20230917T193327Z
LAST-MODIFIED:20230917T201759Z
UID:10000311-1700056800-1700067600@safacalgary.com
SUMMARY:SAFA Table of Officers meeting
DESCRIPTION:
URL:https://safacalgary.com/event/safa-table-of-officers-meeting-9/
END:VEVENT
BEGIN:VEVENT
DTSTART;TZID=America/Edmonton:20231108T140000
DTEND;TZID=America/Edmonton:20231108T170000
DTSTAMP:20260423T200036
CREATED:20230917T193300Z
LAST-MODIFIED:20230917T201805Z
UID:10000310-1699452000-1699462800@safacalgary.com
SUMMARY:SAFA Table of Officers meeting
DESCRIPTION:
URL:https://safacalgary.com/event/safa-table-of-officers-meeting-8/
END:VEVENT
BEGIN:VEVENT
DTSTART;TZID=America/Edmonton:20231107T160000
DTEND;TZID=America/Edmonton:20231107T170000
DTSTAMP:20260423T200036
CREATED:20230917T200347Z
LAST-MODIFIED:20230917T201811Z
UID:10000342-1699372800-1699376400@safacalgary.com
SUMMARY:SAFA Executive Council meeting
DESCRIPTION:
URL:https://safacalgary.com/event/safa-executive-council-meeting-2/
END:VEVENT
BEGIN:VEVENT
DTSTART;TZID=America/Edmonton:20231101T140000
DTEND;TZID=America/Edmonton:20231101T170000
DTSTAMP:20260423T200036
CREATED:20230917T193230Z
LAST-MODIFIED:20230917T201824Z
UID:10000309-1698847200-1698858000@safacalgary.com
SUMMARY:SAFA Table of Officers meeting
DESCRIPTION:
URL:https://safacalgary.com/event/safa-table-of-officers-meeting-7/
END:VEVENT
BEGIN:VEVENT
DTSTART;TZID=America/Edmonton:20231025T140000
DTEND;TZID=America/Edmonton:20231025T170000
DTSTAMP:20260423T200036
CREATED:20230917T193147Z
LAST-MODIFIED:20230917T201832Z
UID:10000308-1698242400-1698253200@safacalgary.com
SUMMARY:SAFA Table of Officers meeting
DESCRIPTION:
URL:https://safacalgary.com/event/safa-table-of-officers-meeting-6/
END:VEVENT
BEGIN:VEVENT
DTSTART;TZID=America/Edmonton:20231018T140000
DTEND;TZID=America/Edmonton:20231018T170000
DTSTAMP:20260423T200036
CREATED:20230917T193117Z
LAST-MODIFIED:20230917T201850Z
UID:10000307-1697637600-1697648400@safacalgary.com
SUMMARY:SAFA Table of Officers meeting
DESCRIPTION:
URL:https://safacalgary.com/event/safa-table-of-officers-meeting-5/
END:VEVENT
BEGIN:VEVENT
DTSTART;TZID=America/Edmonton:20231011T140000
DTEND;TZID=America/Edmonton:20231011T170000
DTSTAMP:20260423T200036
CREATED:20230917T193050Z
LAST-MODIFIED:20230917T201856Z
UID:10000254-1697032800-1697043600@safacalgary.com
SUMMARY:SAFA Table of Officers meeting
DESCRIPTION:
URL:https://safacalgary.com/event/safa-table-of-officers-meeting-4/
END:VEVENT
BEGIN:VEVENT
DTSTART;TZID=America/Edmonton:20231004T140000
DTEND;TZID=America/Edmonton:20231004T170000
DTSTAMP:20260423T200036
CREATED:20230917T193008Z
LAST-MODIFIED:20230917T201902Z
UID:10000252-1696428000-1696438800@safacalgary.com
SUMMARY:SAFA Table of Officers meeting
DESCRIPTION:
URL:https://safacalgary.com/event/safa-table-of-officers-meeting-3/
END:VEVENT
BEGIN:VEVENT
DTSTART;TZID=America/Edmonton:20231003T160000
DTEND;TZID=America/Edmonton:20231003T173000
DTSTAMP:20260423T200036
CREATED:20230917T200225Z
LAST-MODIFIED:20230917T201907Z
UID:10000341-1696348800-1696354200@safacalgary.com
SUMMARY:SAFA Executive Council meeting
DESCRIPTION:
URL:https://safacalgary.com/event/safa-executive-council-meeting/
END:VEVENT
BEGIN:VEVENT
DTSTART;TZID=America/Edmonton:20230927T140000
DTEND;TZID=America/Edmonton:20230927T170000
DTSTAMP:20260423T200036
CREATED:20230917T192835Z
LAST-MODIFIED:20230917T192836Z
UID:10000250-1695823200-1695834000@safacalgary.com
SUMMARY:SAFA Table of Officers meeting
DESCRIPTION:
URL:https://safacalgary.com/event/safa-table-of-officers-meeting-2/
END:VEVENT
BEGIN:VEVENT
DTSTART;TZID=America/Edmonton:20230923T110000
DTEND;TZID=America/Edmonton:20230923T170000
DTSTAMP:20260423T200036
CREATED:20230917T192003Z
LAST-MODIFIED:20230917T201913Z
UID:10000246-1695466800-1695488400@safacalgary.com
SUMMARY:Cobbs Adventure Family Day
DESCRIPTION:You will receive complimentary passes into the corn maze\, plus free rides (including Axe throwing)\, and lunch courtesy of SAFA. \n\n\n\nIf you would like to attend this function\, please email kathie.dann@sait.ca. \n\n\n\nPlease note – paper tickets will not be handed out this year\, everything will be done electronically. ** \n\n\n\nHere is the website for Cobbs Adventure Park. \n\n\n\nCobb’s Adventure Park (cobbsadventurepark.com)
URL:https://safacalgary.com/event/cobbs-adventure-family-day/
END:VEVENT
BEGIN:VEVENT
DTSTART;TZID=America/Edmonton:20230920T140000
DTEND;TZID=America/Edmonton:20230920T170000
DTSTAMP:20260423T200036
CREATED:20230917T192624Z
LAST-MODIFIED:20230917T192625Z
UID:10000248-1695218400-1695229200@safacalgary.com
SUMMARY:SAFA Table of Officers meeting
DESCRIPTION:
URL:https://safacalgary.com/event/safa-table-of-officers-meeting/
END:VEVENT
BEGIN:VEVENT
DTSTART;TZID=America/Edmonton:20230920T100000
DTEND;TZID=America/Edmonton:20230920T160000
DTSTAMP:20260423T200036
CREATED:20230624T184513Z
LAST-MODIFIED:20230917T201920Z
UID:10000244-1695204000-1695225600@safacalgary.com
SUMMARY:SAFA Open House - coffee & donuts for all faculty
DESCRIPTION:Please stop by the office (time permitting) for a meet and greet – welcome back event for faculty members. Come and introduce yourself as a SAFA representative to your colleagues. \n\n\n\nCoffee & donuts will be provided.
URL:https://safacalgary.com/event/safa-open-house-coffee-donuts-for-all-faculty/
END:VEVENT
BEGIN:VEVENT
DTSTART;TZID=America/Edmonton:20230601T160000
DTEND;TZID=America/Edmonton:20230601T210000
DTSTAMP:20260423T200036
CREATED:20230202T002400Z
LAST-MODIFIED:20230917T201927Z
UID:10000243-1685635200-1685653200@safacalgary.com
SUMMARY:SAFA/AUPE BBQ
DESCRIPTION:
URL:https://safacalgary.com/event/safa-aupe-bbq-4-nines/
END:VEVENT
BEGIN:VEVENT
DTSTART;TZID=America/Edmonton:20230531T154500
DTEND;TZID=America/Edmonton:20230531T170000
DTSTAMP:20260423T200036
CREATED:20230202T002144Z
LAST-MODIFIED:20230917T201933Z
UID:10000241-1685547900-1685552400@safacalgary.com
SUMMARY:SAFA AGM
DESCRIPTION:We will hold our annual general meeting (AGM) on Wednesday\, May 31st at 3:45 pm.  Members can attend either in-person or online.   Please contact Kathie Dann if you would like to attend in person as seating is limited. To attend online via Teams\, use the attached calendar appointment or click the link: http://bit.ly/43pW9kK \n\n\n\nMotions for the AGM agenda must be submitted in via email to safa@sait.ca no later than Wednesday\, May 3rd at 4:00pm.  No motions will be accepted from the floor at the annual general meeting.  If you have questions regarding what constitutes a motion\, please contact the SAFA office.   Other business typically occurring at the AGM includes approval of the budget. The complete AGM agenda will be sent out one week before the meeting.
URL:https://safacalgary.com/event/safa-agm-4/
END:VEVENT
BEGIN:VEVENT
DTSTART;TZID=America/Edmonton:20230401T180000
DTEND;TZID=America/Edmonton:20230401T230000
DTSTAMP:20260423T200036
CREATED:20230202T001803Z
LAST-MODIFIED:20230917T201939Z
UID:10000239-1680372000-1680390000@safacalgary.com
SUMMARY:SAFA Casino night - Irene Lewis Atrium
DESCRIPTION:Roaring 20’s theme!! \n\n\n\nPlease feel free to dress up in 20’s themed garb (not mandatory but encouraged). Please pass along the theme to your friends who will be attending – there may be a prize for the best dressed person/couple!! \n\n\n\nAll SAFA members are welcome to attend. \n\n\n\nSAFA members may bring guests –  18 years or older. \n\n\n\nTickets are $10.00/each – below is what is included in the price of your ticket: \n\n\n\n\n2 drink tickets\n\n\n\ncomplimentary taxi chit\n\n\n\nfood throughout the night -pizza and appies (gluten free & vegetarian options available)\n\n\n\nFun Money Casino entertainment\n\n\n\n\nAdditional drinks can be purchased at a cash bar for $5.00/each \n\n\n\nPlease contact Kathie Dann to purchase tickets – kathie.dann@sait.ca
URL:https://safacalgary.com/event/safa-casino-night/
END:VEVENT
BEGIN:VEVENT
DTSTART;TZID=America/Edmonton:20230120T160000
DTEND;TZID=America/Edmonton:20230120T193000
DTSTAMP:20260423T200036
CREATED:20230112T005802Z
LAST-MODIFIED:20230917T201946Z
UID:10000237-1674230400-1674243000@safacalgary.com
SUMMARY:SAFA 40th Anniversary Party
DESCRIPTION:
URL:https://safacalgary.com/event/safa-40th-anniversary-party/
END:VEVENT
BEGIN:VEVENT
DTSTART;TZID=America/Edmonton:20221130T000000
DTEND;TZID=America/Edmonton:20221130T235959
DTSTAMP:20260423T200036
CREATED:20221117T023810Z
LAST-MODIFIED:20230917T201957Z
UID:10000306-1669766400-1669852799@safacalgary.com
SUMMARY:SAFA First Award Nominations Deadline
DESCRIPTION:
URL:https://safacalgary.com/event/safa-first-award-nominations-deadline/
END:VEVENT
BEGIN:VEVENT
DTSTART;TZID=America/Edmonton:20221101T000000
DTEND;TZID=America/Edmonton:20221101T235959
DTSTAMP:20260423T200036
CREATED:20220930T173521Z
LAST-MODIFIED:20230917T202003Z
UID:10000305-1667260800-1667347199@safacalgary.com
SUMMARY:Deadline for SAFA Dependent Scholarship
DESCRIPTION:
URL:https://safacalgary.com/event/deadline-for-safa-dependent-scholarship/
END:VEVENT
BEGIN:VEVENT
DTSTART;TZID=America/Edmonton:20220609T160000
DTEND;TZID=America/Edmonton:20220609T190000
DTSTAMP:20260423T200036
CREATED:20220331T200235Z
LAST-MODIFIED:20230917T202008Z
UID:10000300-1654790400-1654801200@safacalgary.com
SUMMARY:SAFA Annual General Meeting (AGM)
DESCRIPTION:
URL:https://safacalgary.com/event/safa-annual-general-meeting-agm/
END:VEVENT
BEGIN:VEVENT
DTSTART;TZID=America/Edmonton:20220525T090000
DTEND;TZID=America/Edmonton:20220525T160000
DTSTAMP:20260423T200036
CREATED:20220331T200149Z
LAST-MODIFIED:20230917T202014Z
UID:10000299-1653469200-1653494400@safacalgary.com
SUMMARY:SAFA Elections (Online)
DESCRIPTION:The SAFA Office has announced online elections for the following positions: \n\n\n\nPresidentSecretary/TreasurerTable of Officers RepresentativesExecutive Council Representatives Academic Council RepresentativesBoard of Governors RepresentativeHealth & Safety Environment Council MembersYou will receive an email on your @sait.ca email to vote on May 25\, 2022
URL:https://safacalgary.com/event/safa-elections-online/
END:VEVENT
BEGIN:VEVENT
DTSTART;TZID=America/Edmonton:20220517T100000
DTEND;TZID=America/Edmonton:20220517T160000
DTSTAMP:20260423T200036
CREATED:20220424T222032Z
LAST-MODIFIED:20230917T202026Z
UID:10000304-1652781600-1652803200@safacalgary.com
SUMMARY:SAFA Advanced Election Poll
DESCRIPTION:
URL:https://safacalgary.com/event/safa-advanced-election-poll-2/
END:VEVENT
BEGIN:VEVENT
DTSTART;TZID=America/Edmonton:20220508T190000
DTEND;TZID=America/Edmonton:20220511T100000
DTSTAMP:20260423T200036
CREATED:20211113T163940Z
LAST-MODIFIED:20230917T202042Z
UID:10000291-1652036400-1652263200@safacalgary.com
SUMMARY:ACIFA Conference 2022 - Jasper Park Lodge
DESCRIPTION:The 2022 ACIFA (Alberta Colleges and Institutes Faculties Association) Conference will be held at Jasper Park Lodge on May 8 -10th\, 2022.  This is a great opportunity to network with colleagues from across the province and share your work at SAIT.    This year’s theme is “Connection\, Creativity\, Change”. SAFA will subsidize up to 40 members who wish to attend this year’s conference.  Please contact the SAFA office  with your authorized AP60 form to register for the event. 
URL:https://safacalgary.com/event/acifa-conference-2022-jasper-park-lodge/
END:VEVENT
BEGIN:VEVENT
DTSTART;TZID=America/Edmonton:20220505T100000
DTEND;TZID=America/Edmonton:20220505T160000
DTSTAMP:20260423T200036
CREATED:20220424T221956Z
LAST-MODIFIED:20230917T202049Z
UID:10000303-1651744800-1651766400@safacalgary.com
SUMMARY:SAFA Advanced Election Poll
DESCRIPTION:
URL:https://safacalgary.com/event/safa-advanced-election-poll/
END:VEVENT
BEGIN:VEVENT
DTSTART;TZID=America/Edmonton:20220503T100000
DTEND;TZID=America/Edmonton:20220509T220000
DTSTAMP:20260423T200036
CREATED:20220419T153939Z
LAST-MODIFIED:20230917T202056Z
UID:10000302-1651572000-1652133600@safacalgary.com
SUMMARY:Online ratification vote May 3 – 9\, 2022.
DESCRIPTION:
URL:https://safacalgary.com/event/online-ratification-vote-may-3-9-2022/
END:VEVENT
BEGIN:VEVENT
DTSTART;TZID=America/Edmonton:20220502T160000
DTEND;TZID=America/Edmonton:20220502T170000
DTSTAMP:20260423T200036
CREATED:20220419T153721Z
LAST-MODIFIED:20230917T202102Z
UID:10000301-1651507200-1651510800@safacalgary.com
SUMMARY:A special all-member meeting (online) re new Collective Agreement
DESCRIPTION:
URL:https://safacalgary.com/event/a-special-all-member-meeting-online-re-new-collective-agreement/
END:VEVENT
BEGIN:VEVENT
DTSTART;TZID=America/Edmonton:20220421T160000
DTEND;TZID=America/Edmonton:20220421T183000
DTSTAMP:20260423T200036
CREATED:20220331T200028Z
LAST-MODIFIED:20230917T202108Z
UID:10000298-1650556800-1650565800@safacalgary.com
SUMMARY:SAFA Welcome Back Bash
DESCRIPTION:SAFA and AUPE are hosting a joint event on April 21\, 2022\, from 4-6:30pm at The Gateway. Complimentary finger foods and 2 drink tickets will be available to members\, and taxi chits will be provided upon request.
URL:https://safacalgary.com/event/safa-welcome-back-bash/
END:VEVENT
END:VCALENDAR