BEGIN:VCALENDAR
VERSION:2.0
PRODID:-//SAIT Academic Faculty Association - ECPv6.15.20//NONSGML v1.0//EN
CALSCALE:GREGORIAN
METHOD:PUBLISH
X-ORIGINAL-URL:https://safacalgary.com
X-WR-CALDESC:Events for SAIT Academic Faculty Association
REFRESH-INTERVAL;VALUE=DURATION:PT1H
X-Robots-Tag:noindex
X-PUBLISHED-TTL:PT1H
BEGIN:VTIMEZONE
TZID:America/Edmonton
BEGIN:DAYLIGHT
TZOFFSETFROM:-0700
TZOFFSETTO:-0600
TZNAME:MDT
DTSTART:20230312T090000
END:DAYLIGHT
BEGIN:STANDARD
TZOFFSETFROM:-0600
TZOFFSETTO:-0700
TZNAME:MST
DTSTART:20231105T080000
END:STANDARD
BEGIN:DAYLIGHT
TZOFFSETFROM:-0700
TZOFFSETTO:-0600
TZNAME:MDT
DTSTART:20240310T090000
END:DAYLIGHT
BEGIN:STANDARD
TZOFFSETFROM:-0600
TZOFFSETTO:-0700
TZNAME:MST
DTSTART:20241103T080000
END:STANDARD
BEGIN:DAYLIGHT
TZOFFSETFROM:-0700
TZOFFSETTO:-0600
TZNAME:MDT
DTSTART:20250309T090000
END:DAYLIGHT
BEGIN:STANDARD
TZOFFSETFROM:-0600
TZOFFSETTO:-0700
TZNAME:MST
DTSTART:20251102T080000
END:STANDARD
END:VTIMEZONE
BEGIN:VEVENT
DTSTART;TZID=America/Edmonton:20240206T160000
DTEND;TZID=America/Edmonton:20240206T170000
DTSTAMP:20260424T192432
CREATED:20230917T200706Z
LAST-MODIFIED:20230917T201638Z
UID:10000345-1707235200-1707238800@safacalgary.com
SUMMARY:SAFA Executive Council meeting
DESCRIPTION:
URL:https://safacalgary.com/event/safa-executive-council-meeting-5/
END:VEVENT
BEGIN:VEVENT
DTSTART;TZID=America/Edmonton:20240207T130000
DTEND;TZID=America/Edmonton:20240207T160000
DTSTAMP:20260424T192432
CREATED:20230917T194318Z
LAST-MODIFIED:20230917T201632Z
UID:10000322-1707310800-1707321600@safacalgary.com
SUMMARY:SAFA Table of Officers meeting
DESCRIPTION:
URL:https://safacalgary.com/event/safa-table-of-officers-meeting-19/
END:VEVENT
BEGIN:VEVENT
DTSTART;TZID=America/Edmonton:20240214T130000
DTEND;TZID=America/Edmonton:20240214T160000
DTSTAMP:20260424T192432
CREATED:20230917T194351Z
LAST-MODIFIED:20230917T201625Z
UID:10000321-1707915600-1707926400@safacalgary.com
SUMMARY:SAFA Table of Officers meeting
DESCRIPTION:
URL:https://safacalgary.com/event/safa-table-of-officers-meeting-20/
END:VEVENT
BEGIN:VEVENT
DTSTART;TZID=America/Edmonton:20240221T130000
DTEND;TZID=America/Edmonton:20240221T160000
DTSTAMP:20260424T192432
CREATED:20230917T194524Z
LAST-MODIFIED:20230917T201617Z
UID:10000323-1708520400-1708531200@safacalgary.com
SUMMARY:SAFA Table of Officers meeting
DESCRIPTION:
URL:https://safacalgary.com/event/safa-table-of-officers-meeting-21/
END:VEVENT
BEGIN:VEVENT
DTSTART;TZID=America/Edmonton:20240227T110000
DTEND;TZID=America/Edmonton:20240227T130000
DTSTAMP:20260424T192432
CREATED:20240215T014440Z
LAST-MODIFIED:20240215T014442Z
UID:10000354-1709031600-1709038800@safacalgary.com
SUMMARY:Bargaining Town Hall Session
DESCRIPTION:Aero Centre/FA108
URL:https://safacalgary.com/event/bargaining-town-hall-session/
END:VEVENT
BEGIN:VEVENT
DTSTART;TZID=America/Edmonton:20240228T120000
DTEND;TZID=America/Edmonton:20240228T130000
DTSTAMP:20260424T192432
CREATED:20240215T014605Z
LAST-MODIFIED:20240215T014607Z
UID:10000355-1709121600-1709125200@safacalgary.com
SUMMARY:Bargaining Town Hall Session
DESCRIPTION:Senator Burns/NL307
URL:https://safacalgary.com/event/bargaining-town-hall-session-2/
END:VEVENT
BEGIN:VEVENT
DTSTART;TZID=America/Edmonton:20240228T130000
DTEND;TZID=America/Edmonton:20240228T160000
DTSTAMP:20260424T192432
CREATED:20230917T194556Z
LAST-MODIFIED:20230917T201612Z
UID:10000324-1709125200-1709136000@safacalgary.com
SUMMARY:SAFA Table of Officers meeting
DESCRIPTION:
URL:https://safacalgary.com/event/safa-table-of-officers-meeting-22/
END:VEVENT
BEGIN:VEVENT
DTSTART;TZID=America/Edmonton:20240228T190000
DTEND;TZID=America/Edmonton:20240228T200000
DTSTAMP:20260424T192432
CREATED:20240215T014746Z
LAST-MODIFIED:20240215T014749Z
UID:10000356-1709146800-1709150400@safacalgary.com
SUMMARY:Bargaining Town Hall Session
DESCRIPTION:Online\, please contact the SAFA office for the link.
URL:https://safacalgary.com/event/bargaining-town-hall-session-3/
END:VEVENT
BEGIN:VEVENT
DTSTART;TZID=America/Edmonton:20240229T150000
DTEND;TZID=America/Edmonton:20240229T160000
DTSTAMP:20260424T192432
CREATED:20240215T014859Z
LAST-MODIFIED:20240215T014901Z
UID:10000357-1709218800-1709222400@safacalgary.com
SUMMARY:Bargaining Town Hall Session
DESCRIPTION:Heritage Hall/MacDonald Hall
URL:https://safacalgary.com/event/bargaining-town-hall-session-4/
END:VEVENT
END:VCALENDAR