BEGIN:VCALENDAR
VERSION:2.0
PRODID:-//SAIT Academic Faculty Association - ECPv6.15.20//NONSGML v1.0//EN
CALSCALE:GREGORIAN
METHOD:PUBLISH
X-ORIGINAL-URL:https://safacalgary.com
X-WR-CALDESC:Events for SAIT Academic Faculty Association
REFRESH-INTERVAL;VALUE=DURATION:PT1H
X-Robots-Tag:noindex
X-PUBLISHED-TTL:PT1H
BEGIN:VTIMEZONE
TZID:America/Edmonton
BEGIN:DAYLIGHT
TZOFFSETFROM:-0700
TZOFFSETTO:-0600
TZNAME:MDT
DTSTART:20230312T090000
END:DAYLIGHT
BEGIN:STANDARD
TZOFFSETFROM:-0600
TZOFFSETTO:-0700
TZNAME:MST
DTSTART:20231105T080000
END:STANDARD
BEGIN:DAYLIGHT
TZOFFSETFROM:-0700
TZOFFSETTO:-0600
TZNAME:MDT
DTSTART:20240310T090000
END:DAYLIGHT
BEGIN:STANDARD
TZOFFSETFROM:-0600
TZOFFSETTO:-0700
TZNAME:MST
DTSTART:20241103T080000
END:STANDARD
BEGIN:DAYLIGHT
TZOFFSETFROM:-0700
TZOFFSETTO:-0600
TZNAME:MDT
DTSTART:20250309T090000
END:DAYLIGHT
BEGIN:STANDARD
TZOFFSETFROM:-0600
TZOFFSETTO:-0700
TZNAME:MST
DTSTART:20251102T080000
END:STANDARD
END:VTIMEZONE
BEGIN:VEVENT
DTSTART;TZID=America/Edmonton:20240305T160000
DTEND;TZID=America/Edmonton:20240305T170000
DTSTAMP:20260424T181809
CREATED:20230917T200734Z
LAST-MODIFIED:20230917T201606Z
UID:10000346-1709654400-1709658000@safacalgary.com
SUMMARY:SAFA Executive Council meeting
DESCRIPTION:
URL:https://safacalgary.com/event/safa-executive-council-meeting-6/
END:VEVENT
BEGIN:VEVENT
DTSTART;TZID=America/Edmonton:20240306T130000
DTEND;TZID=America/Edmonton:20240306T160000
DTSTAMP:20260424T181809
CREATED:20230917T194647Z
LAST-MODIFIED:20230917T201601Z
UID:10000325-1709730000-1709740800@safacalgary.com
SUMMARY:SAFA Table of Officers meeting
DESCRIPTION:
URL:https://safacalgary.com/event/safa-table-of-officers-meeting-23/
END:VEVENT
BEGIN:VEVENT
DTSTART;TZID=America/Edmonton:20240313T130000
DTEND;TZID=America/Edmonton:20240313T160000
DTSTAMP:20260424T181809
CREATED:20230917T194944Z
LAST-MODIFIED:20230917T201555Z
UID:10000327-1710334800-1710345600@safacalgary.com
SUMMARY:SAFA Table of Officers meeting
DESCRIPTION:
URL:https://safacalgary.com/event/safa-table-of-officers-meeting-25/
END:VEVENT
BEGIN:VEVENT
DTSTART;TZID=America/Edmonton:20240320T130000
DTEND;TZID=America/Edmonton:20240320T160000
DTSTAMP:20260424T181809
CREATED:20230917T194908Z
LAST-MODIFIED:20230917T201549Z
UID:10000326-1710939600-1710950400@safacalgary.com
SUMMARY:SAFA Table of Officers meeting
DESCRIPTION:
URL:https://safacalgary.com/event/safa-table-of-officers-meeting-24/
END:VEVENT
BEGIN:VEVENT
DTSTART;TZID=America/Edmonton:20240325T160000
DTEND;TZID=America/Edmonton:20240325T190000
DTSTAMP:20260424T181809
CREATED:20240309T182116Z
LAST-MODIFIED:20240309T182117Z
UID:10000360-1711382400-1711393200@safacalgary.com
SUMMARY:SAFA Social
DESCRIPTION:Loco Lou’s \n\n\n\n1324 16 Avenue NW
URL:https://safacalgary.com/event/safa-social/
END:VEVENT
BEGIN:VEVENT
DTSTART;TZID=America/Edmonton:20240327T130000
DTEND;TZID=America/Edmonton:20240327T160000
DTSTAMP:20260424T181809
CREATED:20230917T195012Z
LAST-MODIFIED:20230917T201528Z
UID:10000328-1711544400-1711555200@safacalgary.com
SUMMARY:SAFA Table of Officers meeting
DESCRIPTION:
URL:https://safacalgary.com/event/safa-table-of-officers-meeting-26/
END:VEVENT
END:VCALENDAR