BEGIN:VCALENDAR
VERSION:2.0
PRODID:-//SAIT Academic Faculty Association - ECPv6.15.20//NONSGML v1.0//EN
CALSCALE:GREGORIAN
METHOD:PUBLISH
X-ORIGINAL-URL:https://safacalgary.com
X-WR-CALDESC:Events for SAIT Academic Faculty Association
REFRESH-INTERVAL;VALUE=DURATION:PT1H
X-Robots-Tag:noindex
X-PUBLISHED-TTL:PT1H
BEGIN:VTIMEZONE
TZID:America/Edmonton
BEGIN:DAYLIGHT
TZOFFSETFROM:-0700
TZOFFSETTO:-0600
TZNAME:MDT
DTSTART:20240310T090000
END:DAYLIGHT
BEGIN:STANDARD
TZOFFSETFROM:-0600
TZOFFSETTO:-0700
TZNAME:MST
DTSTART:20241103T080000
END:STANDARD
BEGIN:DAYLIGHT
TZOFFSETFROM:-0700
TZOFFSETTO:-0600
TZNAME:MDT
DTSTART:20250309T090000
END:DAYLIGHT
BEGIN:STANDARD
TZOFFSETFROM:-0600
TZOFFSETTO:-0700
TZNAME:MST
DTSTART:20251102T080000
END:STANDARD
BEGIN:DAYLIGHT
TZOFFSETFROM:-0700
TZOFFSETTO:-0600
TZNAME:MDT
DTSTART:20260308T090000
END:DAYLIGHT
BEGIN:STANDARD
TZOFFSETFROM:-0600
TZOFFSETTO:-0700
TZNAME:MST
DTSTART:20261101T080000
END:STANDARD
END:VTIMEZONE
BEGIN:VEVENT
DTSTART;TZID=America/Edmonton:20251103T000000
DTEND;TZID=America/Edmonton:20251103T235959
DTSTAMP:20260423T154636
CREATED:20251008T001642Z
LAST-MODIFIED:20251008T001644Z
UID:10000766-1762128000-1762214399@safacalgary.com
SUMMARY:Deadline for SAFA Dependent Scholarship
DESCRIPTION:Please have all applications sent to SAFA via email at either : kathie.dann@sait.ca or safa@sait.ca. Please find the criteria and application linked for your convenience.
URL:https://safacalgary.com/event/deadline-for-safa-dependent-scholarship-3/
CATEGORIES:Business
END:VEVENT
BEGIN:VEVENT
DTSTART;TZID=America/Edmonton:20251113T140000
DTEND;TZID=America/Edmonton:20251113T153000
DTSTAMP:20260423T154636
CREATED:20251031T004131Z
LAST-MODIFIED:20251031T004233Z
UID:10000773-1763042400-1763047800@safacalgary.com
SUMMARY:Retirement Benefits Planning Webinar by ARTA-registration required
DESCRIPTION:Register for the webinar using this link. \n\n\n\nCheck out the retirement benefits available to SAFA members through the Alberta Retired Teachers’ Association (ARTA).
URL:https://safacalgary.com/event/retirement-benefits-planning-webinar-by-arta-registration-required/
END:VEVENT
END:VCALENDAR