BEGIN:VCALENDAR
VERSION:2.0
PRODID:-//SAIT Academic Faculty Association - ECPv6.15.20//NONSGML v1.0//EN
CALSCALE:GREGORIAN
METHOD:PUBLISH
X-WR-CALNAME:SAIT Academic Faculty Association
X-ORIGINAL-URL:https://safacalgary.com
X-WR-CALDESC:Events for SAIT Academic Faculty Association
REFRESH-INTERVAL;VALUE=DURATION:PT1H
X-Robots-Tag:noindex
X-PUBLISHED-TTL:PT1H
BEGIN:VTIMEZONE
TZID:America/Edmonton
BEGIN:DAYLIGHT
TZOFFSETFROM:-0700
TZOFFSETTO:-0600
TZNAME:MDT
DTSTART:20250309T090000
END:DAYLIGHT
BEGIN:STANDARD
TZOFFSETFROM:-0600
TZOFFSETTO:-0700
TZNAME:MST
DTSTART:20251102T080000
END:STANDARD
BEGIN:DAYLIGHT
TZOFFSETFROM:-0700
TZOFFSETTO:-0600
TZNAME:MDT
DTSTART:20260308T090000
END:DAYLIGHT
BEGIN:STANDARD
TZOFFSETFROM:-0600
TZOFFSETTO:-0700
TZNAME:MST
DTSTART:20261101T080000
END:STANDARD
BEGIN:DAYLIGHT
TZOFFSETFROM:-0700
TZOFFSETTO:-0600
TZNAME:MDT
DTSTART:20270314T090000
END:DAYLIGHT
BEGIN:STANDARD
TZOFFSETFROM:-0600
TZOFFSETTO:-0700
TZNAME:MST
DTSTART:20271107T080000
END:STANDARD
END:VTIMEZONE
BEGIN:VEVENT
DTSTART;TZID=America/Edmonton:20260101T000000
DTEND;TZID=America/Edmonton:20260101T235959
DTSTAMP:20260423T131059
CREATED:20251030T001443Z
LAST-MODIFIED:20251030T001445Z
UID:10000772-1767225600-1767311999@safacalgary.com
SUMMARY:New Year's Day
DESCRIPTION:
URL:https://safacalgary.com/event/new-years-day/
END:VEVENT
BEGIN:VEVENT
DTSTART;TZID=America/Edmonton:20260102T000000
DTEND;TZID=America/Edmonton:20260102T235959
DTSTAMP:20260423T131059
CREATED:20251213T191653Z
LAST-MODIFIED:20251213T192731Z
UID:10000779-1767312000-1767398399@safacalgary.com
SUMMARY:ACIFA Awards deadline (details on the ACIFA website)
DESCRIPTION:For more details on the Distinguished Instructor Award\, the Innovation in Teaching Award and the Scholarship of Teaching and Learning Award\, please visit the ACIFA website.  Apply here.
URL:https://safacalgary.com/event/acifa-awards-details-on-the-acifa-website/
END:VEVENT
BEGIN:VEVENT
DTSTART;TZID=America/Edmonton:20260108T000000
DTEND;TZID=America/Edmonton:20260108T235959
DTSTAMP:20260423T131059
CREATED:20251210T143515Z
LAST-MODIFIED:20251213T175952Z
UID:10000777-1767830400-1767916799@safacalgary.com
SUMMARY:Final day to register for Mini Olympics
DESCRIPTION:Please email Kathie.dann@sait.ca or safa@sait.ca to purchase tickets.
URL:https://safacalgary.com/event/final-day-to-register-for-mini-olympics/
END:VEVENT
BEGIN:VEVENT
DTSTART;TZID=America/Edmonton:20260115T183000
DTEND;TZID=America/Edmonton:20260115T223000
DTSTAMP:20260423T131059
CREATED:20251210T143428Z
LAST-MODIFIED:20251210T143430Z
UID:10000776-1768501800-1768516200@safacalgary.com
SUMMARY:SAFA Event--Mini Olympics
DESCRIPTION:Please join us as we kick off the new year with an evening of friendly competition\, great food\, and plenty of fun at our Mini Olympics event hosted at Schanks South (9627 Macleod Trail South). \n\n\n\nMembers may bring one guest (18 years and older). \n\n\n\nDate:                  Thursday\, January 15\, 2026 \n\n\n\nTime:                  6:30 – 10:30pm/ supper included \n\n\n\nLocation:           Schanks South – 9627 Macleod Trail South \n\n\n\nCost:                   $10/person (member + guest) \n\n\n\nDeadline:          Final day to register – Thursday\, January 8\, 2026 \n\n\n\nWhat’s included: \n\n\n\n\nRoast beef buffet supper\n\n\n\nMini-Olympic course\n\n\n\n2 drink tickets\n\n\n\nComplimentary taxi chit to get home safely\n\n\n\n\nParticipants will be placed on teams of 4-6 players to take on a series of exciting challenges: \n\n\n\nPro-Putt Mini Golf – navigate the rocks\, geese\, and alligators as you and your team plays 6 holes of mini golf \n\n\n\n3 Ball Pool – chalk up your cue and sink 3 balls\, the lower the shots the better! \n\n\n\nArcade Basketball – shoot hoops and sink as many baskets as you can in 60 seconds. Bonus rounds after 100 points!
URL:https://safacalgary.com/event/safa-event-mini-olympics/
END:VEVENT
END:VCALENDAR